Workbook

Sheet MENU
A1: COSCO SHIPPING LINES VIETNAM
A5: COUNTRY / AREA | B5: ETD | C5: DESTINATION | D5: SERVICE
A6: CHINA
B7: MON-TUE | C7: XINGANG - QINGTAO - RIZHAO | D7: CV2 | E7: CHANGE ROUTING FROM 13 SEP 2021
B8: SAT | C8: SHEKOU | D8: KTX1 | E8: CHANGE POL FROM MAR 2021 (CAT LAI -> SP-ITC INTERNATIONAL CONTAINER TERMINAL (HCM28))
B9: WED | C9: SHEKOU - DALIAN - XINGANG | D9: CHL
B10: WED | C10: YANGPU-QINZHOU-ZHANJIANG-GAOLAN-YANTIAN-NANSHA | D10: NEW CVX1 | E10: CHANGE ROUTING FROM 18 SEP 2019
B11: WED | C11: QINZHOU | D11: QVS N
B12: WED | C12: SHANGHAI | D12: CKI
B13: SUN-MON | C13: SHEKOU-HONG KONG -FUZHOU | D13: CV1
B14: TUE | C14: SHANGHAI - NINGBO | D14: CV2 | E14: CHANGE ROUTING FROM 28 AUG 2021
B15: SAT | C15: FUZHOU- QUANZHOU- SHANTOU- NANSHA | D15: CV3
B16: SUN | C16: SHEKOU | D16: KTX6
B17: FRI-SAT | C17: NEW CV5 SERVICE (SHANGHAI, XIAMEN) | D17: CV5
B18: SAT | C18: SHANGHAI - NINGBO | D18: CIT | E18: No space, check case by case
A20: HONG KONG | B20: SUN-MON | C20: HONG KONG | D20: CV1
B21: TUE | C21: HONGKONG | D21: KTX1
B22: WED | C22: HONGKONG | D22: CHL
B23: THU | C23: HONGKONG | D23: THX
B24: SAT | C24: HONG KONG | D24: CV3
B25: SUN | C25: HONG KONG | D25: KTX6
A27: TAIWAN | B27: TUE / THU | C27: KAOHSIUNG - TAICHUNG - KEELUNG | D27: THX
A28: JAPAN | B28: SAT | C28: OSAKA - KOBE - NAGOYA - TOKYO - YOKOHAMA | D28: KTX6 | E28: No space from ETD 4 APR
A29: KOREA | B29: MON | C29: INCHON | D29: CV1
B30: WED | C30: INCHON | D30: CHL
B31: WED | C31: PUSAN- KWANGYANG | D31: CKI
A32: SINGAPORE | B32: MON / SUN | C32: SINGAPORE | D32: IHX / VNS / VTS
A33: MALAYSIA
B34: SUN | C34: PORT KLANG WEST & PASIR GUDANG DIRECT | D34: VTS
B35: MON / SUN | C35: PENANG - KUCHING - BINTULU - KOTA KINABALU VIA SINGAPORE/ PORT KELANG
A37: INDONESIA
B38: MON | C38: JAKARTA DIRECT | D38: IHX
B39: MON / SUN | C39: SURABAYA - SEMARANG - BELAWAN - PALEMBANG - BATAM VIA PORT KLANG, SINGAPORE
A41: MYANMAR
B42: MON / SUN | C42: YANGON (AWPT)
B43: MON / SUN | C43: YANGON (MIP & MITT) | E43: Stop receive Yangon MITT/MIP from from 11 MAR
A45: PHILIPPINES | B45: MON / SUN | C45: MANILA (NORTH)- GENERAL SANTOS - DAVAO
A46: INDIA | B46: MON / SUN | C46: PIPAVAV PORT - NHAVA SHEVA - MUNDRA - CHENNAI - VIZAG - KATTUPALLI
A47: PAKISTAN | B47: MON / SUN | C47: KARACHI
A48: SRILANKA | B48: MON / SUN | C48: COLOMBO
...

Sheet CIT
B1: COSCO SHIPPING LINES VIETNAM
A5: BACK TO MENU | E5: Updated: | F5: ='CV2'!F5 -> 44105
B8: CIT SERVICE (SHANGHAI, NINGBO)
C10: ETD | E10: ETA
A11: VESSEL NAME | B11: VOYAGE NO. | C11: HCM | D11: SHANGHAI | E11: NINGBO
C12: FRI-SAT | D12: SHA04 | E12: NGB05
D13: 08 days | E13: 09 days
A14: EVER CLEVER | B14: 001N | C14: 44464 | D14: 44416 | E14: 44417
A15: PROGRESS C | B15: 120N | C15: =C14+7 -> 44471 | D15: =C15+8 -> 44479 | E15: =C15+9 -> 44480
A16: ADVANCE | B16: 056N | C16: =C15+7 -> 44478 | D16: =C16+8 -> 44486 | E16: =C16+9 -> 44487
A17: EVER CROWN | B17: 013N | C17: =C16+7 -> 44485 | D17: =C17+8 -> 44493 | E17: =C17+9 -> 44494
A18: EVER CLEVER | B18: 002N | C18: =C17+7 -> 44492 | D18: =C18+8 -> 44500 | E18: =C18+9 -> 44501
A19: EVER CONVEY | B19: 003N | C19: =C18+7 -> 44499 | D19: =D18+7 -> 44507 | E19: =E18+7 -> 44508
A20: SHA04 : ShanghaiPort Ctn Waigaoqiao Tml Brh (phase II) // NGB05: Ningbo Yuandong Terminals Limited | F20: =RIGHT(B20,4)
A22: CLOSING TIME :
A23: CAT LAI : | B23: 12:00 FRI
A25: ABOVE SAILING SCHEDULE IS SUBJECT TO CHANGE WITH /WITHOUT PRIOR NOTICE
A26: For booking inquiries, please contact :
A27: COSCO SHIPPING LINES VIETNAM
A28: SU17 Building, 05 Ho Bieu Chanh, Ward 12, Phu Nhuan Dist, HCMC, Viet Nam
A29: TEL : 84.8.38290000 FAX : 84.8. 39307268
A30: EMAIL: SGN.SEA.CUS@COSCON.COM
A31: WEBSITE : WWW.COSCON.COM

Sheet CV1
A1: COSCO SHIPPING LINES VIETNAM
A3: CV1 SERVICE (SHEKOU, HONGKONG, FUZHOU, INCHON, QINGDAO, SHANGHAI)
D4: Updated: | G4: ='KTX1'!D5 -> #REF!
A5: BACK TO MENU
A7: VESSEL NAME | B7: VOYAGE | C7: ETD | D7: ETA
B8: NO. | C8: HO CHI MINH | D8: SHEKOU | E8: HONG KONG | F8: FUZHOU | G8: INCHON | H8: QINGDAO | I8: SHANGHAI
C9: SUN | D9: 3 days | E9: 4 days | F9: 6 days | G9: 8 days | H9: 9 days | I9: 11 days
A10: WAN HAI 285 | B10: N008 | C10: 44466 | D10: 44469 | E10: 44470 | F10: OMIT | G10: 44474 | H10: OMIT | I10: OMIT
A11: INTERASIA VISION | B11: N017 | C11: 44473 | D11: SLIDE DOWN 1W
A12: INTERASIA VISION | B12: N017 | C12: 44480 | D12: =C12+3 -> 44483 | E12: =C12+4 -> 44484 | F12: OMIT | G12: =C12+8 -> 44488 | H12: =C12+9 -> 44489 | I12: =C12+11 -> 44491
A13: ZHONG GU HUANG HAI | B13: N008 | C13: =C12+7 -> 44487 | D13: =C13+3 -> 44490 | E13: =C13+4 -> 44491 | F13: =C13+6 -> 44493 | G13: =C13+8 -> 44495 | H13: =C13+9 -> 44496 | I13: =C13+11 -> 44498
A14: WAN HAI 285 | B14: N009 | C14: =C13+7 -> 44494 | D14: BLANK SAILING
A15: INTERASIA VISION | B15: N018 | C15: =C14+7 -> 44501 | D15: =C15+3 -> 44504 | E15: =C15+4 -> 44505 | F15: =C15+6 -> 44507 | G15: =C15+8 -> 44509 | H15: =C15+9 -> 44510 | I15: =C15+11 -> 44512
A16: ZHONG GU HUANG HAI | B16: N009 | C16: =C15+7 -> 44508 | D16: =C16+3 -> 44511 | E16: =C16+4 -> 44512 | F16: =C16+6 -> 44514 | G16: =C16+8 -> 44516 | H16: =C16+9 -> 44517 | I16: =C16+11 -> 44519
A17: Fuzhou: Fuzhou Int'l Container Terminal // Inchon: Hanjin Incheon Container Terminal // Qingdao : Qingdao Qianwan Container Tml Co. 2 // Shanghai : Shanghai East Container Terminal (WGQ phase IV)
A18: ABOVE SAILING SCHEDULE IS SUBJECT TO CHANGE WITH /WITHOUT PRIOR NOTICE
A19: CLOSING TIME :
A20: CAT LAI : | B20: 11:59 AM SAT
C21: 0.8125
A22: For booking inquiries, please contact :
A23: COSCO SHIPPING LINES VIETNAM
A24: SU17 Building, 05 Ho Bieu Chanh, Ward 12, Phu Nhuan Dist, HCMC, Viet Nam
A25: TEL : 84.8.38290000 FAX : 84.8. 39307268
A26: EMAIL: SGN.SEA.CUS@COSCON.COM
A27: WEBSITE : WWW.COSCON.COM

Sheet Sheet3

Sheet CV2
A1: COSCO SHIPPING LINES VIETNAM
A5: BACK TO MENU | E5: Updated: | F5: 44105
A7: NEW CV2-N SERVICE: SGN- SHANGHAI - NINGBO (Effective from: 28 AUG)
B8: VOYAGE | C8: ETD | D8: ETA
A9: VESSEL NAME | B9: NO. | C9: HCM | D9: QINGDAO | E9: RIZHAO | F9: NINGBO | G9: XINGANG | H9: SHANGHAI
C10: SAT | D10: TAO06 | E10: RZH01 | F10: NGB04 | G10: TSN01 | H10: SHA07
D11: 07 days | E11: 08 days | F11: 10 days
A12: NZ NINGBO | B12: 003N | C12: 44429 | D12: 44452 | E12: 44453 | F12: - | G12: 44450 | H12: - | I12: I/O Blank sailing
A13: ZHONG HANG SHENG | B13: 137N | C13: 44436 | D13: OMIT | E13: OMIT | F13: 44452 | G13: - | H13: 44450 | I13: Port rotation: SGN - SHA - NGB
A14: CSCL MANZANILLO | B14: 069N | C14: =C13+7 -> 44443 | D14: 44459 | E14: 44460 | F14: OMIT | G14: 44457 | H14: - | I14: Port rotation: SGN - TSN - TAO - RZH
A15: CITY OF BEIJING | B15: 033N | C15: =C14+7 -> 44450 | D15: OMIT | E15: OMIT | F15: 44459 | G15: - | H15: 44457 | I15: Port rotation: SGN - SHA - NGB
A16: AS PENELOPE | B16: 088N | C16: =C15+7 -> 44457 | D16: BLANK
A17: RZH01 : Rizhao Port Container Development - TAO06: QQCTU Qingdao Qian United Ctn - NGB04: Daxie Int'l Container Terminals Co. - XMN01: Hai Tian
A18: ABOVE SAILING SCHEDULE IS SUBJECT TO CHANGE WITH /WITHOUT PRIOR NOTICE
A19: CLOSING TIME :
A20: CAT LAI : | B20: 14:00 FRI
A21: NEW LTD: TUE (Effective from: 21 SEP)
B22: VOYAGE | C22: ETD | D22: ETA
A23: VESSEL NAME | B23: NO. | C23: HCM | D23: SHANGHAI | E23: NINGBO
C24: TUE | D24: SHA07 | E24: NGB04
D25: 04 days | E25: 06 days
A26: CSCL MANZANILLO | B26: 070N | C26: 44467 | D26: =C26+4 -> 44471 | E26: OMIT | F26: I/O ZHONG HANG SHENG 138N
A27: ZHONG HANG SHENG | B27: 138N | C27: =C26+7 -> 44474 | D27: =C27+4 -> 44478 | E27: =C27+6 -> 44480 | F27: I/O MANZANLLO 070N
A28: CITY OF BEIJING | B28: 034N | C28: =C27+7 -> 44481 | D28: =C28+4 -> 44485 | E28: =C28+6 -> 44487
A29: NZ NINGBO | B29: 005N | C29: =C28+7 -> 44488 | D29: =C29+4 -> 44492 | E29: =C29+6 -> 44494
A30: JINYUNHE | B30: 371N | C30: =C29+7 -> 44495 | D30: =C30+4 -> 44499 | E30: =C30+6 -> 44501 | F30: I/O CSCL MANZANILLO 071N
A31: ZHONG HANG SHENG | B31: 139N | C31: =C30+7 -> 44502 | D31: =C31+4 -> 44506 | E31: =C31+6 -> 44508
A32: SHA07: WGQ NO.5 - NGB04: Daxie Int'l Container Terminals Co.
A33: ABOVE SAILING SCHEDULE IS SUBJECT TO CHANGE WITH /WITHOUT PRIOR NOTICE
A34: CLOSING TIME :
A35: CAT LAI : 15:00 MON
A37: NEW CV2-C SERVICE: SGN- XINGANG - QINGDAO - RIZHAO (Effective from: 13 SEP) NEW LTD （Effective from 3 OCT)
A38: NEW LTD （Effective from 3 OCT)
A41: VESSEL NAME | B41: VOYAGE | C41: ETD | D41: ETA
B42: NO. | C42: HCM | D42: SHANGHAI
C43: WED | D43: SHA06
D44: 6 days
A45: ELA | B45: 020N | C45: 44356 | D45: 44362
A46: SHA06: SH Port Ctn Waigaoqiao Phase I Tml
A47: CLOSING TIME :
...

Sheet CV3
A1: COSCO SHIPPING LINES VIETNAM
A3: NEW CV3 SERVICE (HONG KONG, FUZHOU, QUANZHOU, SHANTOU, SHEKOU)
D4: Updated: | H4: =#REF! -> #REF!
A5: BACK TO MENU
C9: ETD | F9: ETA
B10: VOYAGE | C10: HCM | D10: HONG KONG | E10: FUZHOU | F10: QUANZHOU SHIHU | G10: SHANTOU | H10: SHEKOU | I10: NANSHA | J10: SHANGHAI
A11: VESSEL NAME | B11: NO. | C11: SAT | D11: HKG01 | E11: FZN01 | F11: QZJ04 | G11: SWA06 | H11: SHK01 | I11: NEW PORT | J11: SHA07
A12: WAN HAI 282 | B12: N144 | C12: 44464 | D12: BLANK
A13: JINYUNHE | B13: 371N | C13: =C12+7 -> 44471 | D13: BLANK
A14: WAN HAI 282 | B14: N145 | C14: =C13+7 -> 44478 | D14: BLANK
A15: JINYUNHE | B15: 372N | C15: =C14+7 -> 44485 | D15: BLANK
A16: WAN HAI 282 | B16: N146 | C16: =C15+7 -> 44492 | D16: =C16+3 -> 44495 | E16: =C16+5 -> 44497 | F16: =C16+6 -> 44498 | G16: =C16+7 -> 44499 | H16: =C16+9 -> 44501 | I16: =C16+10 -> 44502 | J16: -
A17: TBA | C17: =C16+7 -> 44499 | D17: =C17+3 -> 44502 | E17: =C17+5 -> 44504 | F17: =C17+6 -> 44505 | G17: =C17+7 -> 44506 | H17: =C17+9 -> 44508 | I17: =C17+10 -> 44509 | J17: -
A18: TBA | C18: =C17+7 -> 44506 | D18: =C18+3 -> 44509 | E18: =C18+5 -> 44511 | F18: =C18+6 -> 44512 | G18: =C18+7 -> 44513 | H18: =C18+9 -> 44515 | I18: =C18+10 -> 44516 | J18: -
A19: HKG01 : HIT | C19: ABOVE SAILING SCHEDULE IS SUBJECT TO CHANGE WITH /WITHOUT PRIOR NOTICE
A20: CLOSING TIME :
A21: CAT LAI : | B21: 18:00 FRI
A23: For booking inquiries, please contact :
A24: COSCO SHIPPING LINES VIETNAM
A25: SU17 Building, 05 Ho Bieu Chanh, Ward 12, Phu Nhuan Dist, HCMC, Viet Nam
A26: TEL : 84.8.38290000 FAX : 84.8. 39307268
A27: EMAIL: SGN.SEA.CUS@COSCON.COM
A28: WEBSITE : WWW.COSCON.COM

Sheet CV5
A1: COSCO SHIPPING LINES VIETNAM
A5: BACK TO MENU | E5: Updated: | F5: =#REF! -> #REF!
A8: NEW CV5 SERVICE (SHANGHAI, XIAMEN)
A10: VESSEL NAME | B10: VOYAGE | C10: ETD | D10: ETA
B11: NO. | C11: HCM | D11: SHANGHAI | E11: XIAMEN
C12: FRI | D12: SHA07 | E12: XMN01
D13: 6 days | E13: 9 days
A14: LOA GLORY | B14: 2137N | C14: 44463 | D14: 44469 | E14: 44472
C15: =C14+7 -> 44470 | D15: Blank sailing
A16: LOA GLORY | B16: 2139N | C16: =C15+7 -> 44477 | D16: =C16+6 -> 44483 | E16: =C16+9 -> 44486
C17: =C16+7 -> 44484 | D17: Blank sailing
A18: LOA GLORY | B18: 2141N | C18: =C17+7 -> 44491 | D18: =C18+6 -> 44497 | E18: =C18+9 -> 44500
C19: =C18+7 -> 44498 | D19: Blank sailing
A20: XMN01: Hai Tian - SHA07 : Sha Port Ctn Waigaoqiao Phase V Tml
A21: CLOSING TIME :
A22: CAT LAI : | B22: 20:00 THU
A23: ABOVE SAILING SCHEDULE IS SUBJECT TO CHANGE WITH /WITHOUT PRIOR NOTICE
A24: For booking inquiries, please contact :
A25: COSCO SHIPPING LINES VIETNAM
A26: SU17 Building, 05 Ho Bieu Chanh, Ward 12, Phu Nhuan Dist, HCMC, Viet Nam
A27: TEL : 84.8.38290000 FAX : 84.8. 39307268
A28: EMAIL: SGN.SEA.CUS@COSCON.COM
A29: WEBSITE : WWW.COSCON.COM

Sheet CVX1-QVS
A1: COSCO SHIPPING LINES VIETNAM
A3: NEW CVX1 (SOUTH CHINA)
A5: BACK TO MENU
D6: Updated: | E6: =#REF! -> #REF!
C8: ETD
A9: VESSEL NAME | B9: VOYAGE NO. | C9: HO CHI MINH | D9: XIAOCHAN BEACH (YANGPU) XCT01 | E9: QINZHOU | F9: ZHANJIANG | G9: HONGKONG (HKG01) | H9: NANSHA | I9: SHEKOU (SHK01) | J9: YANTIAN
C10: WED | D10: 3 days | E10: 5 days | F10: 6 days | G10: 8 days | H10: 9 days | I10: 10 days | J10: 10 days
A11: MIYUNHE | B11: 366N | C11: 44468 | D11: 44471 | E11: 44473 | F11: 44474 | G11: 44476 | H11: 44477 | I11: 44478 | J11: OMIT
A12: JT GLORY | B12: 396N | C12: =C11+7 -> 44475 | D12: SLIDE DOWN 1W
A13: MIYUNHE | B13: 367N | C13: =C12+7 -> 44482 | D13: =C13+3 -> 44485 | E13: =C13+5 -> 44487 | F13: =C13+6 -> 44488 | G13: =C13+8 -> 44490 | H13: =C13+9 -> 44491 | I13: 44492 | J13: OMIT
C14: =C13+7 -> 44489 | D14: BLANK
A15: MIYUNHE | B15: 368N | C15: =C14+7 -> 44496 | D15: =C15+3 -> 44499 | E15: =C15+5 -> 44501 | F15: =C15+6 -> 44502 | G15: =C15+8 -> 44504 | H15: =C15+9 -> 44505 | I15: OMIT | J15: OMIT
C16: =C15+7 -> 44503 | D16: BLANK
A17: MIYUNHE | B17: 369N | C17: =C16+7 -> 44510 | D17: =C17+3 -> 44513 | E17: =C17+5 -> 44515 | F17: =C17+6 -> 44516 | G17: =C17+8 -> 44518 | H17: =C17+9 -> 44519 | I17: OMIT | J17: OMIT
A18: CLOSING TIME :
A19: CAT LAI | B19: 18:00 TUE
A21: QVS (QINZHOU)
A23: VESSEL NAME | B23: VOYAGE NO. | C23: ETD | E23: ETA
C24: HO CHI MINH | D24: ZHANJIANG | E24: QINZHOU | F24: XIAOCHAN BEACH (YANGPU) XCT01
C25: WED | D25: 4 days | E25: 3 days | F25: 6 days
A26: CALA PAGURO | B26: 063N | C26: 44461 | D26: OMIT | E26: 44464 | F26: 44467
A27: BLANK | C27: =C26+7 -> 44468 | D27: OMIT | E27: OMIT | F27: OMIT
A28: CALA PAGURO | B28: 064N | C28: =C27+7 -> 44475 | D28: OMIT | E28: =C28+3 -> 44478 | F28: =C28+6 -> 44481
A29: BLANK | C29: =C28+7 -> 44482 | D29: OMIT | E29: OMIT | F29: OMIT
A30: CALA PAGURO | B30: 065N | C30: =C29+7 -> 44489 | D30: OMIT | E30: =C30+3 -> 44492 | F30: =C30+6 -> 44495
A31: RICH SEAWAY | B31: 002N | C31: =C30+7 -> 44496 | D31: OMIT | E31: OMIT | F31: OMIT
A32: CALA PAGURO | B32: 066N | C32: =C31+7 -> 44503 | D32: OMIT | E32: =C32+3 -> 44506 | F32: =C32+6 -> 44509
A34: ABOVE SAILING SCHEDULE IS SUBJECT TO CHANGE WITH /WITHOUT PRIOR NOTICE
A35: CLOSING TIME :
A36: CAT LAI | B36: 10:00 WED
A38: For booking inquiries, please contact :
A39: COSCO SHIPPING LINES VIETNAM
A40: SU17 Building, 05 Ho Bieu Chanh, Ward 12, Phu Nhuan Dist, HCMC, Viet Nam
A41: TEL : 84.8.38290000 FAX : 84.8. 39307268
A42: EMAIL: SGN.SEA.CUS@COSCON.COM
A43: WEBSITE : WWW.COSCON.COM

Sheet CHL
A1: COSCO SHIPPING LINES VIETNAM
A3: CHL SERVICE (HONG KONG - SHEKOU - INCHON - DALIAN - XINGANG - QINGDAO)
A5: BACK TO MENU | C5: Updated: | D5: =#REF! -> #REF!
A7: VESSEL NAME | B7: VOYAGE NO. | C7: ETD | D7: ETA
C8: HO CHI MINH | D8: HONG KONG (HKG04 ) | E8: SHEKOU | F8: INCHON | G8: DALIAN | H8: XINGANG (TSN01) | I8: QINGDAO
C9: WED | D9: 3 days | E9: 4 days | F9: 7 days | G9: 10 days | H9: 11 days | I9: 12 days
A10: XUTRA BHUM | B10: 907N | C10: 44468 | D10: 44471 | E10: 44472 | F10: 44475 | G10: 44478 | H10: 44479 | I10: 44480
A11: GH BORA | B11: 068N | C11: =C10+7 -> 44475 | D11: =C11+3 -> 44478 | E11: OMIT | F11: OMIT | G11: =C11+10 -> 44485 | H11: =C11+11 -> 44486 | I11: =C11+12 -> 44487
A12: YM CREDENTIAL | B12: 021N | C12: =C11+7 -> 44482 | D12: =C12+3 -> 44485 | E12: =C12+4 -> 44486 | F12: =C12+7 -> 44489 | G12: =C12+10 -> 44492 | H12: =C12+11 -> 44493 | I12: =C12+12 -> 44494
A13: XUTRA BHUM | B13: 908N | C13: =C12+7 -> 44489 | D13: =C13+3 -> 44492 | E13: =C13+4 -> 44493 | F13: =C13+7 -> 44496 | G13: =C13+10 -> 44499 | H13: =C13+11 -> 44500 | I13: =C13+12 -> 44501
A14: GH BORA | B14: 069N | C14: =C13+7 -> 44496 | D14: =C14+3 -> 44499 | E14: =C14+4 -> 44500 | F14: =C14+7 -> 44503 | G14: =C14+10 -> 44506 | H14: =C14+11 -> 44507 | I14: =C14+12 -> 44508
A15: YM CREDENTIAL | B15: 022N | C15: =C14+7 -> 44503 | D15: =C15+3 -> 44506 | E15: =C15+4 -> 44507 | F15: =C15+7 -> 44510 | G15: =C15+10 -> 44513 | H15: =C15+11 -> 44514 | I15: =C15+12 -> 44515
A16: XUTRA BHUM | B16: 909N | C16: =C15+7 -> 44510 | D16: =C16+3 -> 44513 | E16: =C16+4 -> 44514 | F16: =C16+7 -> 44517 | G16: =C16+10 -> 44520 | H16: =C16+11 -> 44521 | I16: =C16+12 -> 44522
A17: HKG04: Modern Terminal Limited (MTL) / Inchon: Incheon Container Terminal Co.,Ltd. / Xingang TSN03: CSX Orient (Tianjin) Container Terminals Co.,Ltd
A18: ABOVE SAILING SCHEDULE IS SUBJECT TO CHANGE WITH /WITHOUT PRIOR NOTICE
A19: CLOSING TIME :
A20: CAT LAI : | B20: 12:00PM TUE
A22: For booking inquiries, please contact :
A23: COSCO SHIPPING LINES VIETNAM
A24: SU17 Building, 05 Ho Bieu Chanh, Ward 12, Phu Nhuan Dist, HCMC, Viet Nam
A25: TEL : 84.8.38290000 FAX : 84.8. 39307268
A26: EMAIL: SGN.SEA.CUS@COSCON.COM
A27: WEBSITE : WWW.COSCON.COM

Sheet CKI
A1: COSCO SHIPPING LINES VIETNAM
B4: CHINA - KOREA - PHILIPPINES (CKI)
A5: BACK TO MENU | F5: Updated: | G5: =#REF! -> #REF!
A7: VESSEL NAME | B7: VOYAGE NO. | C7: ETD HO CHI MINH | D7: ETA
D8: SHANGHAI SHA07 | E8: BUSAN | F8: KWANGYANG
C9: WED | D9: 6 days | E9: 8 days | F9: 9 days
A10: KMTC SHIMIZU | B10: 2109N | C10: 44468 | D10: 44474 | E10: 44476 | F10: 44477
A11: HAPPY LUCKY | B11: 2102N | C11: =C10+7 -> 44475 | D11: Blank sailing
A12: KMTC XIAMEN | B12: 2110N | C12: =C11+7 -> 44482 | D12: =C12+6 -> 44488 | E12: =C12+8 -> 44490 | F12: =C12+9 -> 44491
A13: KMTC DALIAN | B13: 2109N | C13: =C12+7 -> 44489 | D13: =C13+6 -> 44495 | E13: =C13+8 -> 44497 | F13: =C13+9 -> 44498
A14: KMTC SHIMIZU | B14: 2110N | C14: =C13+7 -> 44496 | D14: =C14+6 -> 44502 | E14: =C14+8 -> 44504 | F14: =C14+9 -> 44505
A15: TBA | C15: =C14+7 -> 44503 | D15: =C15+6 -> 44509 | E15: =C15+8 -> 44511 | F15: =C15+9 -> 44512
A16: SHA07 : Sha Port Ctn Waigaoqiao Phase V Tml | D16: ABOVE SAILING SCHEDULE IS SUBJECT TO CHANGE WITH /WITHOUT PRIOR NOTICE
A17: CLOSING TIME :
A18: CAT LAI : | B18: 11:00 AM TUE
A20: For booking inquiries, please contact :
A21: COSCO SHIPPING LINES VIETNAM
A22: SU17 Building, 05 Ho Bieu Chanh, Ward 12, Phu Nhuan Dist, HCMC, Viet Nam
A23: TEL : 84.8.38290000 FAX : 84.8. 39307268
A24: EMAIL: SGN.SEA.CUS@COSCON.COM
A25: WEBSITE : WWW.COSCON.COM
D44: COSCON

Sheet KTX1
A1: COSCO SHIPPING LINES VIETNAM
A3: KTX1 SERVICE (SHEKOU - JAPAN - TAIWAN)
C4: Check Space case by case
A5: BACK TO MENU | C5: Updated: | D5: =#REF! -> #REF!
A7: VESSEL NAME | B7: VOYAGE | C7: ETD | D7: SHEKOU | E7: HONGKONG
C8: HO CHI MINH | E8: HKG01
B9: NO. | C9: SAT | D9: 3 days | E9: 3 days
A10: DELAWARE TRADER | B10: 034N | C10: 44464 | D10: BLANK SAILING
A11: OREA | B11: 016N | C11: 44471 | D11: OMIT | E11: 44474
A12: ELA | B12: 035N | C12: =C11+7 -> 44478 | D12: =C12+3 -> 44481 | E12: =C12+3 -> 44481
A13: CAPE ORIENT | B13: 107N | C13: =C12+7 -> 44485 | D13: =C13+3 -> 44488 | E13: =C13+3 -> 44488
A14: DELAWARE TRADER | B14: 035N | C14: =C13+7 -> 44492 | D14: =C14+3 -> 44495 | E14: =C14+3 -> 44495
A15: OREA | B15: 017N | C15: =C14+7 -> 44499 | D15: =C15+3 -> 44502 | E15: =C15+3 -> 44502
A16: HKG01 HIT / KHH04 : OOCL (Taiwan) Co., Ltd. / | E16: ABOVE SAILING SCHEDULE IS SUBJECT TO CHANGE WITH /WITHOUT PRIOR NOTICE
A17: CLOSING TIME :
A18: SP-ITC INTERNATIONAL CONTAINER TERMINAL (HCM28) | B18: 10:00 FRI
A19: ICD Sotrans/ Dong Nai/ Transimex: 10:00 THU
A20: For booking inquiries, please contact :
A21: COSCO SHIPPING LINES VIETNAM
A22: SU17 Building, 05 Ho Bieu Chanh, Ward 12, Phu Nhuan Dist, HCMC, Viet Nam
A23: TEL : 84.8.38290000 FAX : 84.8. 39307268
A24: EMAIL: SGN.SEA.CUS@COSCON.COM
A25: WEBSITE : WWW.COSCON.COM

Sheet KTX6
D1: COSCO SHIPPING LINES VIETNAM
A3: KTX6 SERVICE (SHEKOU)
A5: BACK TO MENU | C5: Updated: | D5: =#REF! -> #REF!
A7: VESSEL NAME | B7: VOYAGE NO. | C7: VNTCT | D7: SHEKOU | E7: HONGKONG | F7: OSAKA | G7: KOBE | H7: NAGOYA | I7: YOKOHAMA | J7: TOKYO
C8: SUN | D8: 3 days | E8: 4 days | F8: 8 days | G8: 9 days | H8: 10 days | I8: 11 days | J8: 12 days
A9: OOCL DALIAN | B9: 658N | C9: 44283 | D9: 44286 | E9: 44287 | F9: 44291 | G9: 44292 | H9: 44293 | I9: 44294 | J9: 44295 | K9: last voyage
A10: WAN HAI 510 | B10: N139 | C10: =C9+7 -> 44290 | D10: =D9+7 -> 44293 | E10: =E9+7 -> 44294 | F10: =F9+7 -> 44298 | G10: =G9+7 -> 44299 | H10: =H9+7 -> 44300 | I10: =I9+7 -> 44301 | J10: =J9+7 -> 44302 | K10: no space
A11: SPIL KARTIKA | B11: N028 | C11: =C10+7 -> 44297 | D11: =D10+7 -> 44300 | E11: =E10+7 -> 44301 | F11: =F10+7 -> 44305 | G11: =G10+7 -> 44306 | H11: =H10+7 -> 44307 | I11: =I10+7 -> 44308 | J11: =J10+7 -> 44309
A12: WAN HAI 501 | B12: N211 | C12: =C11+7 -> 44304 | D12: =D11+7 -> 44307 | E12: =E11+7 -> 44308 | F12: =F11+7 -> 44312 | G12: =G11+7 -> 44313 | H12: =H11+7 -> 44314 | I12: =I11+7 -> 44315 | J12: =J11+7 -> 44316
A13: OOCL DALIAN | B13: 659N | C13: =C12+7 -> 44311 | D13: =D12+7 -> 44314 | E13: =E12+7 -> 44315 | F13: =F12+7 -> 44319 | G13: =G12+7 -> 44320 | H13: =H12+7 -> 44321 | I13: =I12+7 -> 44322 | J13: =J12+7 -> 44323
A14: WAN HAI 510 | B14: N140 | C14: =C13+7 -> 44318 | D14: =D13+7 -> 44321 | E14: =E13+7 -> 44322 | F14: =F13+7 -> 44326 | G14: =G13+7 -> 44327 | H14: =H13+7 -> 44328 | I14: =I13+7 -> 44329 | J14: =J13+7 -> 44330
A15: HKG01 : HIT | E15: ABOVE SAILING SCHEDULE IS SUBJECT TO CHANGE WITH /WITHOUT PRIOR NOTICE
A16: CLOSING TIME :
A17: Cat Lai Giang Nam / Cat Lai / Phuc Long / Dong Nai/ Tanamexco / Sowatco | F17: 18:00 FRI
A18: TAN CANG CAI MEP (TCIT) | F18: 14:00 SAT
A20: For booking inquiries, please contact :
A21: COSCO SHIPPING LINES VIETNAM
A22: SAFI TOWER, 209 NGUYEN VAN THU STREET, DISTRICT 1, HO CHI MINH CITY
A23: TEL : 84.8.38290000 FAX : 84.8. 39307268
A24: EMAIL: SGN.SEA.CUS@COSCON.COM
A25: WEBSITE : WWW.COSCON.COM

Sheet THX
A1: COSCO SHIPPING LINES VIETNAM
A5: BACK TO MENU | E5: Updated: | F5: =#REF! -> #REF!
A7: NEW THX-B SERVICE (KAOHSIUNG, TAICHUNG) | F7: Check Space case by case
A8: VESSEL NAME | B8: VOYAGE NO. | C8: ETD HCM | D8: KAOHSIUNG | F8: TAICHUNG
D9: 03 days | F9: 04 days
C10: TUE | D10: KHH05 | E10: KHH04 | F10: TCH01 | G10: TCH03
A11: YM CELEBRITY | B11: 025B | C11: 44467 | D11: 44470 | G11: 44471
A12: AMALIA C | B12: 101B | C12: =C11+7 -> 44474 | E12: 44477 | F12: 44478
A13: ST EVER | B13: 090B | C13: =C12+7 -> 44481 | E13: 44484 | G13: 44485 | H13: I.O MESSINI 121B
A14: YM CELEBRITY | B14: 026B | C14: =C13+7 -> 44488 | D14: =D11+21 -> 44491 | G14: =G11+21 -> 44492
A15: AMALIA C | B15: 102B | C15: =C14+7 -> 44495 | E15: =E12+21 -> 44498 | F15: =F12+21 -> 44499
A16: ST EVER | B16: 091B | C16: =C15+7 -> 44502 | E16: 44505 | G16: 44506
A17: YM CELEBRITY | B17: 027B | C17: =C16+7 -> 44509 | D17: =D14+21 -> 44512 | G17: =G14+21 -> 44513
A18: KHH04 : OOCL (Taiwan) Co., Ltd. / KHH05 : HON MING TERMINAL&STEVEDORING CO.
A19: TCH01 : China Container Terminal Corp / TCH03 : Evergreen Int'l Storage & Transport
A20: CLOSING TIME :
A21: 12:00 PM MON at CAT LAI
A24: NEW THX-A SERVICE (KAOHSIUNG, KEELUNG, HONGKONG) | G24: Check Space case by case
A25: VESSEL NAME | B25: VOYAGE NO. | C25: ETD HCM | D25: KAOHSIUNG | F25: KEELUNG | G25: HONG KONG
D26: 03-04 days | F26: 5 days | G26: 07 days
C27: THU | D27: KHH05 | E27: KHH04 | F27: KEL-ULIC | G27: HKG04 | H27: HKG01
A28: ST EVER | B28: 090A | C28: 44469 | E28: 44473 | F28: 44474 | H28: 44476 | I28: I/O MESSINI 121A
A29: YM CELEBRITY | B29: 026A | C29: =C28+7 -> 44476 | D29: 44480 | F29: =C29+5 -> 44481 | H29: 44483
A30: AMALIA C | B30: 102A | C30: =C29+7 -> 44483 | E30: 44487 | F30: =C30+5 -> 44488 | G30: 44490
A31: ST EVER | B31: 091A | C31: =C30+7 -> 44490 | E31: 44494 | F31: 44495 | H31: 44497
A32: YM CELEBRITY | B32: 027A | C32: =C31+7 -> 44497 | D32: =D29+21 -> 44501 | F32: =F29+21 -> 44502 | H32: =H29+21 -> 44504
A33: AMALIA C | B33: 103A | C33: =C32+7 -> 44504 | E33: =E30+21 -> 44508 | F33: =C33+5 -> 44509 | G33: 44511
A34: TBA
A35: HKG09: Hong Kong Int'l Terminals Ltd / HKG04: Modern Terminals
A36: KEL-ULIC: United Logistics Int'l Co.
A37: CLOSING TIME :
A38: 12:00 PM WED at CAT LAI
A39: ABOVE SAILING SCHEDULE IS SUBJECT TO CHANGE WITH /WITHOUT PRIOR NOTICE
A40: For booking inquiries, please contact :
A41: COSCO SHIPPING LINES VIETNAM
A42: SU17 Building, 05 Ho Bieu Chanh, Ward 12, Phu Nhuan Dist, HCMC, Viet Nam
A43: TEL : 84.8.38290000 FAX : 84.8. 39307268
A44: EMAIL: SGN.SEA.CUS@COSCON.COM
A45: WEBSITE : WWW.COSCON.COM

Sheet Port Klang West & Pasir Gudang 
A1: COSCO SHIPPING LINES VIETNAM
A3: PORT KELANG WEST & PASIR GUDANG DIRECT (VTS)
D4: Updated: | E4: =#REF! -> #REF!
A5: BACK TO MENU
A8: VESSEL NAME | B8: VOYAGE | C8: ETD HCM | D8: SINGAPORE | E8: PORT KLANG WEST | F8: PASIR GUDANG
B9: NUMBER | C9: SUN | D9: 2 days | E9: 4 days | F9: 5 days
A10: CAPE FAWLEY | B10: 060S | C10: 44465 | D10: 44467 | E10: 44469 | F10: 44470
A11: GREEN HORIZON | B11: 113S | C11: =C10+7 -> 44472 | D11: =C11+2 -> 44474 | E11: =C11+4 -> 44476 | F11: OMIT
A12: SANTA LOUKIA | B12: 176S | C12: =C11+7 -> 44479 | D12: =C12+2 -> 44481 | E12: =C12+4 -> 44483 | F12: =C12+5 -> 44484
A13: CAPE FAWLEY | B13: 061S | C13: =C12+7 -> 44486 | D13: =C13+2 -> 44488 | E13: =C13+4 -> 44490 | F13: =C13+5 -> 44491
A14: GREEN HORIZON | B14: 114S | C14: =C13+7 -> 44493 | D14: =C14+2 -> 44495 | E14: =C14+4 -> 44497 | F14: =C14+5 -> 44498
A15: SANTA LOUKIA | B15: 177S | C15: =C14+7 -> 44500 | D15: =C15+2 -> 44502 | E15: =C15+4 -> 44504 | F15: =C15+5 -> 44505
C16: ABOVE SAILING SCHEDULE IS SUBJECT TO CHANGE WITH /WITHOUT PRIOR NOTICE
A17: CLOSING TIME :
A18: 08:00 AM SAT at CAT LAI
A20: ADHOC
A23: VESSEL NAME | B23: VOYAGE | C23: ETD HCM | D23: SINGAPORE
B24: NUMBER | C24: WED | D24: 3 days
A26: CLOSING TIME :
A29: For booking inquiries, please contact :
A30: COSCO SHIPPING LINES VIETNAM
A31: SU17 Building, 05 Ho Bieu Chanh, Ward 12, Phu Nhuan Dist, HCMC, Viet Nam
A32: TEL : 84.8.38290000 FAX : 84.8. 39307268
A33: EMAIL: SGN.SEA.CUS@COSCON.COM
A34: WEBSITE : WWW.COSCON.COM

Sheet Jakarta (Direct)
A1: COSCO SHIPPING LINES VIETNAM
A3: NEW DIRECT SERVICE TO JAKARTA (IHX)
A4: BACK TO MENU | D4: Updated: | E4: =#REF! -> #REF!
A6: VESSEL NAME | B6: VOYAGE NUMBER | C6: ETD HCM | D6: SIN | E6: JAKARTA (Tanjung Priok)
D7: 2 days | E7: 5 days
C8: MON | E8: TSJ terminal (JKT09) | F8: JICT terminal (JKT01)
A9: CSCL LIMA | B9: 115S | C9: 44466 | D9: 44468 | F9: 44473
A10: SINAR SORONG | B10: 115S | C10: =C9+7 -> 44473 | D10: =C10+2 -> 44475 | E10: =C11+5 -> 44485
A11: CSCL LIMA | B11: 116S | C11: =C10+7 -> 44480 | D11: =D9+14 -> 44482 | F11: =F9+14 -> 44487
A12: SINAR SORONG | B12: 116S | C12: =C11+7 -> 44487 | D12: =D10+14 -> 44489 | E12: =E10+14 -> 44499
A13: CSCL LIMA | B13: 117S | C13: =C12+7 -> 44494 | D13: =D11+14 -> 44496 | F13: =F11+14 -> 44501
A14: TBA | C14: =C13+7 -> 44501 | D14: =D12+14 -> 44503 | E14: =E12+14 -> 44513
A15: CSCL LIMA | B15: 118S | C15: =C14+7 -> 44508 | D15: =D13+14 -> 44510 | F15: =F13+14 -> 44515
C16: ABOVE SAILING SCHEDULE IS SUBJECT TO CHANGE WITH /WITHOUT PRIOR NOTICE
A17: Remarks for closing time:
A18: 07:00 AM SUN at CAT LAI
A21: For booking inquiries, please contact :
A22: COSCO SHIPPING LINES VIETNAM
A23: SU17 Building, 05 Ho Bieu Chanh, Ward 12, Phu Nhuan Dist, HCMC, Viet Nam
A24: TEL : 84.8.38290000 FAX : 84.8. 39307268
A25: EMAIL: SGN.SEA.CUS@COSCON.COM
A26: WEBSITE : WWW.COSCON.COM

Sheet YANGON (AWPT)
A1: COSCO SHIPPING LINES VIETNAM
D4: SERVICE TO YANGON (AWPT) VIA PORT KELANG
E5: STOP RECEIVE YANGON UNTIL FURTHER NOTICE | G5: Updated: | H5: ='KTX1'!D5 -> #REF!
A6: BACK TO MENU
A8: VESSEL NAME | B8: VOYAGE NUMBER | D8: ETD HCM | E8: ETA | F8: INTENDED CONNECTING VESSEL | G8: ETA
D9: SUN | E9: PORT KLANG WEST | G9: PORT KLANG WEST | H9: YANGON (AWPT)
B10: ='Port Klang West & Pasir Gudang '!B10 -> 060S | F10: CTP MAKASSAR 234S | G10: 44471 | H10: =G10+4 -> 44475 | I10: SYM1
A11: ='Port Klang West & Pasir Gudang '!A10 -> CAPE FAWLEY | D11: ='Port Klang West & Pasir Gudang '!C10 -> 44465 | E11: =D11+4 -> 44469 | F11: TBA | G11: 44475 | H11: =G11+4 -> 44479 | I11: SYM2
F12: TBA | G12: 44471 | H12: =G12+4 -> 44475 | I12: MTS
B13: ='Port Klang West & Pasir Gudang '!B11 -> 113S | F13: TBA | G13: =G10+7 -> 44478 | H13: =G13+4 -> 44482
A14: ='Port Klang West & Pasir Gudang '!A11 -> GREEN HORIZON | D14: =D11+7 -> 44472 | E14: =E11+7 -> 44476 | F14: TBA | G14: =G11+7 -> 44482 | H14: =H11+7 -> 44486
F15: TBA | G15: =G12+7 -> 44478 | H15: =H12+7 -> 44482
B16: ='Port Klang West & Pasir Gudang '!B12 -> 176S | F16: CTP MAKASSAR 235S | G16: =G13+7 -> 44485 | H16: =G16+4 -> 44489
A17: ='Port Klang West & Pasir Gudang '!A12 -> SANTA LOUKIA | D17: =D14+7 -> 44479 | E17: =E14+7 -> 44483 | F17: TBA | G17: =G14+7 -> 44489 | H17: =H14+7 -> 44493
F18: TBA | G18: =G15+7 -> 44485 | H18: =H15+7 -> 44489
B19: ='Port Klang West & Pasir Gudang '!B13 -> 061S | F19: TBA | G19: =G16+7 -> 44492 | H19: =G19+4 -> 44496
A20: ='Port Klang West & Pasir Gudang '!A13 -> CAPE FAWLEY | D20: =D17+7 -> 44486 | E20: =E17+7 -> 44490 | F20: TBA | G20: =G17+7 -> 44496 | H20: =H17+7 -> 44500
F21: TBA | G21: =G18+7 -> 44492 | H21: =H18+7 -> 44496
B22: ='Port Klang West & Pasir Gudang '!B14 -> 114S | F22: CTP MAKASSAR 236S | G22: =G19+7 -> 44499 | H22: =G22+4 -> 44503
A23: ='Port Klang West & Pasir Gudang '!A14 -> GREEN HORIZON | D23: =D20+7 -> 44493 | E23: =E20+7 -> 44497 | F23: TBA | G23: =G20+7 -> 44503 | H23: =H20+7 -> 44507
F24: TBA | G24: =G21+7 -> 44499 | H24: =H21+7 -> 44503
B25: ='Port Klang West & Pasir Gudang '!B15 -> 177S | F25: TBA | G25: =G22+7 -> 44506 | H25: =G25+4 -> 44510
A26: ='Port Klang West & Pasir Gudang '!A15 -> SANTA LOUKIA | D26: =D23+7 -> 44500 | E26: =E23+7 -> 44504 | F26: TBA | G26: =G23+7 -> 44510 | H26: =H23+7 -> 44514
F27: TBA | G27: =G24+7 -> 44506 | H27: =H24+7 -> 44510
E28: ABOVE SAILING SCHEDULE IS SUBJECT TO CHANGE WITH /WITHOUT PRIOR NOTICE
A29: CLOSING TIME :
A30: CAT LAI | D30: 08:00 SAT
D33: SERVICE TO YANGON (AWPT) VIA SINGAPORE
E34: STOP RECEIVE YANGON UNTIL FURTHER NOTICE
A36: VESSEL NAME | B36: VOYAGE | C36: ETD HCM | F36: ETA | G36: INTENDED CONNECTING VESSEL | H36: ETA SIN | I36: ETA YANGON (AWPT)
B37: NUMBER | F37: SINGAPORE
A38: CALA PAGURO | B38: 064S | C38: TCHP | D38: 44471 | E38: SAT | F38: =D38+2 -> 44473 | G38: CTP MAKASSAR 235N | H38: 44473 | I38: =H38+5 -> 44478 | J38: SYM1
A39: =A11 -> CAPE FAWLEY | B39: =B10 -> 060S | C39: CAT LAI | D39: =D11 -> 44465 | E39: SUN | F39: =D39+2 -> 44467 | G39: TBA | H39: 44476 | I39: =H39+4 -> 44480 | J39: SYM2
A40: BLANK | C40: CAT LAI | D40: 44464 | E40: MON | F40: =D40+4 -> 44468
A41: ='Jakarta (Direct)'!A9 -> CSCL LIMA | B41: ='Jakarta (Direct)'!B9 -> 115S | C41: CAT LAI | D41: ='Jakarta (Direct)'!C9 -> 44466 | E41: MON | F41: =D41+2 -> 44468 | G41: ISEACO WISDOM 038S | H41: 44472 | I41: =H41+4 -> 44476 | J41: MTS
A42: TBA | C42: CAT LAI | D42: =D38+7 -> 44478 | E42: SAT | F42: =D42+2 -> 44480 | G42: TBA | H42: =H38+7 -> 44480 | I42: =H42+5 -> 44485
A43: =A14 -> GREEN HORIZON | B43: =B13 -> 113S | C43: CAT LAI | D43: =D39+7 -> 44472 | E43: SUN | F43: =F39+7 -> 44474 | G43: TBA | H43: =H39+7 -> 44483 | I43: =H43+4 -> 44487
A44: CALA PAGURO | B44: 064S | C44: CAT LAI | D44: =D40+7 -> 44471 | E44: MON | F44: =D44+4 -> 44475
A45: ='Jakarta (Direct)'!A10 -> SINAR SORONG | B45: ='Jakarta (Direct)'!B10 -> 115S | C45: CAT LAI | D45: =D41+7 -> 44473 | E45: MON | F45: =F41+7 -> 44475 | G45: ISEACO GENESIS 156S | H45: =H41+7 -> 44479 | I45: =H45+4 -> 44483
A46: CALA PAGURO | B46: 065S | C46: TCHP | D46: =D42+7 -> 44485 | E46: SAT | F46: =D46+2 -> 44487 | G46: CTP MAKASSAR 236N | H46: =H42+7 -> 44487 | I46: =H46+5 -> 44492
...

Sheet Yangon (MIP & MITT)
A1: COSCO SHIPPING LINES VIETNAM
A3: YANGON (MIP & MITT) VIA SINGAPORE
E4: STOP RECEIVE YANGON UNTIL FURTHER NOTICE
A5: BACK TO MENU | G5: Updated: | H5: ='KTX1'!D5 -> #REF!
A7: VESSEL NAME | B7: VOYAGE | C7: ETD | F7: ETA | G7: INTENDED CONNECTING VESSEL | H7: ETA | I7: ETA | J7: ETA
B8: NUMBER | C8: HCM | F8: SINGAPORE | H8: SIN | I8: YANGON (MIP) | J8: YANGON (MITT)
A9: CALA PAGURO | B9: 064S | C9: TCHP | D9: 44471 | E9: SAT | F9: 44473
A10: CAPE FAWLEY | B10: 060S | C10: CAT LAI | D10: 44465 | E10: SUN | F10: 44467 | G10: TBA | H10: 44473 | I10: =H10+4 -> 44477 | J10: =H10+6 -> 44479
A11: BLANK | C11: CAT LAI | D11: 44464 | E11: MON | F11: 44468
A12: CSCL LIMA | B12: 115S | C12: CAT LAI | D12: 44466 | E12: MON | F12: 44468
A13: TBA | C13: CAT LAI | D13: 44478 | E13: SAT | F13: 44480
A14: GREEN HORIZON | B14: 113S | C14: CAT LAI | D14: 44472 | E14: SUN | F14: 44474 | G14: TBA | H14: =H10+7 -> 44480 | I14: =I10+7 -> 44484 | J14: =J10+7 -> 44486
A15: CALA PAGURO | B15: 064S | C15: CAT LAI | D15: 44471 | E15: MON | F15: 44475
A16: SINAR SORONG | B16: 115S | C16: CAT LAI | D16: 44473 | E16: MON | F16: 44475
A17: CALA PAGURO | B17: 065S | C17: TCHP | D17: 44485 | E17: SAT | F17: 44487
A18: SANTA LOUKIA | B18: 176S | C18: CAT LAI | D18: 44479 | E18: SUN | F18: 44481 | G18: TBA | H18: =H14+7 -> 44487 | I18: =I14+7 -> 44491 | J18: =J14+7 -> 44493
A19: BLANK | B19: 029S | C19: CAT LAI | D19: 44478 | E19: MON | F19: 44482
A20: CSCL LIMA | B20: 116S | C20: CAT LAI | D20: 44480 | E20: MON | F20: 44482
A21: TBA | C21: TCHP | D21: 44492 | E21: SAT | F21: 44494
A22: CAPE FAWLEY | B22: 061S | C22: CAT LAI | D22: 44486 | E22: SUN | F22: 44488 | G22: TBA | H22: =H18+7 -> 44494 | I22: =I18+7 -> 44498 | J22: =J18+7 -> 44500
A23: CALA PAGURO | B23: 065S | C23: CAT LAI | D23: 44485 | E23: MON | F23: 44489
A24: SINAR SORONG | B24: 116S | C24: CAT LAI | D24: 44487 | E24: MON | F24: 44489
A25: CALA PAGURO | B25: 066S | C25: TCHP | D25: 44499 | E25: SAT | F25: 44501
A26: GREEN HORIZON | B26: 114S | C26: CAT LAI | D26: 44493 | E26: SUN | F26: 44495 | G26: TBA | H26: =H22+7 -> 44501 | I26: =I22+7 -> 44505 | J26: =J22+7 -> 44507
A27: RICH SEAWAY | B27: 002S | C27: CAT LAI | D27: 44492 | E27: MON | F27: 44496
A28: CSCL LIMA | B28: 117S | C28: CAT LAI | D28: 44494 | E28: MON | F28: 44496
A29: TBA | C29: TCHP | D29: 44506 | E29: SAT | F29: 44508
A30: SANTA LOUKIA | B30: 177S | C30: CAT LAI | D30: 44500 | E30: SUN | F30: 44502 | G30: TBA | H30: =H26+7 -> 44508 | I30: =I26+7 -> 44512 | J30: =J26+7 -> 44514
A31: CALA PAGURO | B31: 066S | C31: CAT LAI | D31: 44499 | E31: MON | F31: 44503
A32: TBA | B32: 0 | C32: CAT LAI | D32: 44501 | E32: MON | F32: 44503
F34: ABOVE SAILING SCHEDULE IS SUBJECT TO CHANGE WITH /WITHOUT PRIOR NOTICE
A35: Remarks for closing time:
A36: 22:00 PM FRI at TCHP // 04:00 AM FRI at CAT LAI // 22:00 PM THU in PHUC LONG, TRANSIMEX, TANAMEXCO (don’t accept ICD PHUOCLONG /BINHDUONG)
A37: 08:00 AM SAT at CAT LAI
A38: 10:00 AM MON AT CAT LAI
A39: 07:00 AM SUN at CAT LAI
A41: For booking inquiries, please contact :
A42: COSCO SHIPPING LINES VIETNAM
A43: SU17 Building, 05 Ho Bieu Chanh, Ward 12, Phu Nhuan Dist, HCMC, Viet Nam
A44: TEL : 84.8.38290000 FAX : 84.8. 39307268
...

Sheet Sheet2

Sheet INDONESIA via PKL, SGP
A1: COSCO SHIPPING LINES VIETNAM
A3: INDONESIA SERVICE VIA PORT KELANG/ SINGAPORE
A5: BACK TO MENU | I5: Updated: | J5: ='CV2'!F5 -> 44105
A7: VESSEL NAME | B7: VOYAGE NUMBER | C7: ETD HCM | D7: ETA | E7: INTENDED CONNECTING VESSEL | F7: ETA | G7: ETA
C8: SUN | D8: PORT KLANG WEST | F8: PORT KLANG WEST | G8: SEMARANG | H8: SURABAYA
A9: ='Port Klang West & Pasir Gudang '!A10 -> CAPE FAWLEY | B9: ='Port Klang West & Pasir Gudang '!B10 -> 060S | C9: ='Port Klang West & Pasir Gudang '!C10 -> 44465 | D9: =C9+4 -> 44469 | E9: GFS PEARL 019S | F9: 44477 | H9: =F9+5 -> 44482 | I9: GMI
E10: SEA OF LUCK 231E | F10: 44470 | G10: =F10+4 -> 44474 | I10: ITS
A11: ='Port Klang West & Pasir Gudang '!A11 -> GREEN HORIZON | B11: ='Port Klang West & Pasir Gudang '!B11 -> 113S | C11: =C9+7 -> 44472 | D11: =C11+4 -> 44476 | E11: TBA | F11: =F9+7 -> 44484 | H11: =F11+5 -> 44489
E12: TBA | F12: =F10+7 -> 44477 | G12: =F12+4 -> 44481
A13: ='Port Klang West & Pasir Gudang '!A12 -> SANTA LOUKIA | B13: ='Port Klang West & Pasir Gudang '!B12 -> 176S | C13: =C11+7 -> 44479 | D13: =C13+4 -> 44483 | E13: GFS PEARL 020S | F13: =F11+7 -> 44491 | H13: =F13+5 -> 44496
E14: MOUNT GOUGH 062E | F14: =F12+7 -> 44484 | G14: =F14+4 -> 44488
A15: ='Port Klang West & Pasir Gudang '!A13 -> CAPE FAWLEY | B15: ='Port Klang West & Pasir Gudang '!B13 -> 061S | C15: =C13+7 -> 44486 | D15: =C15+4 -> 44490 | E15: TBA | F15: =F13+7 -> 44498 | H15: =F15+5 -> 44503
E16: SEA OF LUCK 232E | F16: =F14+7 -> 44491 | G16: =F16+4 -> 44495
A17: ='Port Klang West & Pasir Gudang '!A14 -> GREEN HORIZON | B17: ='Port Klang West & Pasir Gudang '!B14 -> 114S | C17: =C15+7 -> 44493 | D17: =C17+4 -> 44497 | E17: TBA | F17: =F15+7 -> 44505 | H17: =F17+5 -> 44510
E18: TBA | F18: =F16+7 -> 44498 | G18: =F18+4 -> 44502
A19: ='Port Klang West & Pasir Gudang '!A15 -> SANTA LOUKIA | B19: ='Port Klang West & Pasir Gudang '!B15 -> 177S | C19: =C17+7 -> 44500 | D19: =C19+4 -> 44504 | E19: TBA | F19: =F17+7 -> 44512 | H19: =F19+5 -> 44517
E20: MOUNT GOUGH 063E | F20: =F18+7 -> 44505 | G20: =F20+4 -> 44509
A23: CLOSING TIME :
A24: CAT LAI | B24: 08:00 SAT
A27: FEEDER VESSEL | C27: ETD | F27: ETA | G27: INTENDED CONNECTING VESSEL | H27: ETA SIN | I27: ETA
C28: HO CHI MINH | F28: SINGAPORE | I28: SURABAYA | J28: BATAM
A29: CALA PAGURO | B29: 064S | C29: TCHP | D29: 44471 | E29: SAT | F29: 44473 | G29: X-PRESS MAKALU 020S | H29: 44471 | I29: =H29+7 -> 44478 | K29: SSX1
A30: CAPE FAWLEY | B30: 060S | C30: CAT LAI | D30: 44465 | E30: SUN | F30: 44467 | G30: GFS PEARL 018N | H30: 44475 | I30: =H30+7 -> 44482 | K30: GMI
A31: BLANK | C31: CAT LAI | D31: 44464 | E31: MON | F31: 44468
A32: CSCL LIMA | B32: 115S | C32: CAT LAI | D32: 44466 | E32: MON | F32: 44468 | G32: TBA | K32: SF9
A33: TBA | C33: CAT LAI | D33: 44478 | E33: SAT | F33: 44480 | G33: HIGHWAY 149S | H33: =H29+7 -> 44478 | I33: =H33+6 -> 44484
A34: GREEN HORIZON | B34: 113S | C34: CAT LAI | D34: 44472 | E34: SUN | F34: 44474 | G34: PRESIDIO 068N | H34: =H30+7 -> 44482 | I34: =I30+7 -> 44489
A35: CALA PAGURO | B35: 064S | C35: CAT LAI | D35: 44471 | E35: MON | F35: 44475
A36: SINAR SORONG | B36: 115S | C36: CAT LAI | D36: 44473 | E36: MON | F36: 44475 | G36: TBA
A37: CALA PAGURO | B37: 065S | C37: TCHP | D37: 44485 | E37: SAT | F37: 44487 | G37: HIGHWAY 150S | H37: =H33+7 -> 44485 | I37: =H37+6 -> 44491
A38: SANTA LOUKIA | B38: 176S | C38: CAT LAI | D38: 44479 | E38: SUN | F38: 44481 | G38: GFS PEARL 019N | H38: =H34+7 -> 44489 | I38: =I34+7 -> 44496
A39: BLANK | B39: 029S | C39: CAT LAI | D39: 44478 | E39: MON | F39: 44482
A40: CSCL LIMA | B40: 116S | C40: CAT LAI | D40: 44480 | E40: MON | F40: 44482 | G40: TBA
A41: TBA | C41: TCHP | D41: 44492 | E41: SAT | F41: 44494 | G41: TBA | H41: =H37+7 -> 44492 | I41: =H41+6 -> 44498
A42: CAPE FAWLEY | B42: 061S | C42: CAT LAI | D42: 44486 | E42: SUN | F42: 44488 | G42: PRESIDIO 069N | H42: =H38+7 -> 44496 | I42: =I38+7 -> 44503
A43: CALA PAGURO | B43: 065S | C43: CAT LAI | D43: 44485 | E43: MON | F43: 44489
A44: SINAR SORONG | B44: 116S | C44: CAT LAI | D44: 44487 | E44: MON | F44: 44489 | G44: TBA
A45: CALA PAGURO | B45: 066S | C45: TCHP | D45: 44499 | E45: SAT | F45: 44501 | G45: HIGHWAY 151S | H45: =H41+7 -> 44499 | I45: =H45+6 -> 44505
A46: GREEN HORIZON | B46: 114S | C46: CAT LAI | D46: 44493 | E46: SUN | F46: 44495 | G46: TBA | H46: =H42+7 -> 44503 | I46: =I42+7 -> 44510
A47: RICH SEAWAY | B47: 002S | C47: CAT LAI | D47: 44492 | E47: MON | F47: 44496
...

Sheet PHILIPPINES
A1: COSCO SHIPPING LINES VIETNAM
F3: PHILIPPINES VIA SIN
H4: Updated: | I4: ='CV2'!F5 -> 44105
A5: BACK TO MENU
A8: FEEDER VESSEL | D8: ETD | F8: ETA | G8: INTENDED | H8: ETA | J8: ETA
C9: HO CHI MINH | F9: SINGAPORE | G9: CONNECTING VESSEL | H9: SINGAPORE | I9: SUBIC BAY | J9: NORTH MANILA | K9: GENERAL SANTOS | L9: DAVAO
A10: CALA PAGURO | B10: 064S | C10: TCHP | D10: 44471 | E10: SAT | F10: 44473 | G10: SEASPAN NEW YORK 030N | H10: 44470 | I10: =H10+7 -> 44477 | J10: =H10+7 -> 44477 | M10: NP1
A11: CAPE FAWLEY | B11: 060S | C11: CAT LAI | D11: 44465 | E11: SUN | F11: 44467 | G11: ELEFTERIA EXPRESS 0020E | H11: 44476 | K11: =H11+6 -> 44482 | L11: =H11+8 -> 44484 | M11: RSP
A12: BLANK | C12: CAT LAI | D12: 44464 | E12: MON | F12: 44468
A13: CSCL LIMA | B13: 115S | C13: CAT LAI | D13: 44466 | E13: MON | F13: 44468
A14: TBA | C14: CAT LAI | D14: 44478 | E14: SAT | F14: 44480 | G14: ALS JUNO 021N | H14: =H10+7 -> 44477 | I14: =I10+7 -> 44484 | J14: =J10+7 -> 44484
A15: GREEN HORIZON | B15: 113S | C15: CAT LAI | D15: 44472 | E15: SUN | F15: 44474 | G15: MOUNT KELLETT S2ZR1N | H15: =H11+7 -> 44483 | K15: =K11+7 -> 44489 | L15: =L11+7 -> 44491
A16: CALA PAGURO | B16: 064S | C16: CAT LAI | D16: 44471 | E16: MON | F16: 44475
A17: SINAR SORONG | B17: 115S | C17: CAT LAI | D17: 44473 | E17: MON | F17: 44475
A18: CALA PAGURO | B18: 065S | C18: TCHP | D18: 44485 | E18: SAT | F18: 44487 | G18: TBA | H18: =H14+7 -> 44484 | I18: =I14+7 -> 44491 | J18: =J14+7 -> 44491
A19: SANTA LOUKIA | B19: 176S | C19: CAT LAI | D19: 44479 | E19: SUN | F19: 44481 | G19: ELEFTERIA EXPRESS 0021E | H19: =H15+7 -> 44490 | K19: =K15+7 -> 44496 | L19: =L15+7 -> 44498
A20: BLANK | B20: 029S | C20: CAT LAI | D20: 44478 | E20: MON | F20: 44482
A21: CSCL LIMA | B21: 116S | C21: CAT LAI | D21: 44480 | E21: MON | F21: 44482
A22: TBA | C22: TCHP | D22: 44492 | E22: SAT | F22: 44494 | G22: TBA | H22: =H18+7 -> 44491 | I22: =I18+7 -> 44498 | J22: =J18+7 -> 44498
A23: CAPE FAWLEY | B23: 061S | C23: CAT LAI | D23: 44486 | E23: SUN | F23: 44488 | G23: MOUNT KELLETT S31R1N | H23: =H19+7 -> 44497 | K23: =K19+7 -> 44503 | L23: =L19+7 -> 44505
A24: CALA PAGURO | B24: 065S | C24: CAT LAI | D24: 44485 | E24: MON | F24: 44489
A25: SINAR SORONG | B25: 116S | C25: CAT LAI | D25: 44487 | E25: MON | F25: 44489
A26: CALA PAGURO | B26: 066S | C26: TCHP | D26: 44499 | E26: SAT | F26: 44501 | G26: TBA | H26: =H22+7 -> 44498 | I26: =I22+7 -> 44505 | J26: =J22+7 -> 44505
A27: GREEN HORIZON | B27: 114S | C27: CAT LAI | D27: 44493 | E27: SUN | F27: 44495 | G27: ELEFTERIA EXPRESS 0022E | H27: =H23+7 -> 44504 | K27: =K23+7 -> 44510 | L27: =L23+7 -> 44512
A28: RICH SEAWAY | B28: 002S | C28: CAT LAI | D28: 44492 | E28: MON | F28: 44496
A29: CSCL LIMA | B29: 117S | C29: CAT LAI | D29: 44494 | E29: MON | F29: 44496
A30: TBA | C30: TCHP | D30: 44506 | E30: SAT | F30: 44508 | G30: TBA | H30: =H26+7 -> 44505 | I30: =I26+7 -> 44512 | J30: =J26+7 -> 44512
A31: SANTA LOUKIA | B31: 177S | C31: CAT LAI | D31: 44500 | E31: SUN | F31: 44502 | G31: MOUNT KELLETT S33R1N | H31: =H27+7 -> 44511 | K31: =K27+7 -> 44517 | L31: =L27+7 -> 44519
A32: CALA PAGURO | B32: 066S | C32: CAT LAI | D32: 44499 | E32: MON | F32: 44503
A33: TBA | B33: 0 | C33: CAT LAI | D33: 44501 | E33: MON | F33: 44503
C36: ABOVE SAILING SCHEDULE IS SUBJECT TO CHANGE WITH /WITHOUT PRIOR NOTICE
A37: Remarks for closing time:
A38: 22:00 PM FRI at TCHP // 04:00 AM FRI at CAT LAI // 22:00 PM THU in PHUC LONG, TRANSIMEX, TANAMEXCO (don’t accept ICD PHUOCLONG /BINHDUONG)
A39: 08:00 AM SAT at CAT LAI
A40: 10:00 AM MON AT CAT LAI
A41: 07:00 AM SUN at CAT LAI
A44: COSCO SHIPPING LINES VIETNAM
A45: SU17 Building, 05 Ho Bieu Chanh, Ward 12, Phu Nhuan Dist, HCMC, Viet Nam
A46: TEL : 84.8.38290000 FAX : 84.8. 39307268
A47: EMAIL: SGN.SEA.CUS@COSCON.COM
...

Sheet MALAYSIA via PKG, SGP
A1: COSCO SHIPPING LINES VIETNAM
A4: PENANG SERVICE VIA SINGAPORE/PORT KLANG
A6: BACK TO MENU | G6: Updated: | H6: ='CV2'!F5 -> 44105
A8: VESSEL NAME | B8: VOYAGE NUMBER | D8: ETD HO CHI MINH | E8: ETA | F8: INTENDED CONNECTING VESSEL | G8: ETA | H8: ETA
D9: SUN | E9: PORT KLANG WEST | G9: PORT KLANG WEST | H9: PENANG
A10: ='Port Klang West & Pasir Gudang '!A10 -> CAPE FAWLEY | B10: ='Port Klang West & Pasir Gudang '!B10 -> 060S | D10: ='Port Klang West & Pasir Gudang '!C10 -> 44465 | E10: =D10+4 -> 44469 | F10: SPIL KARTINI 014S | G10: 44474 | H10: =G10+2 -> 44476 | I10: CME
F11: MH GREEN 9S | G11: 44476 | H11: =G11+2 -> 44478 | I11: CMS2
A12: ='Port Klang West & Pasir Gudang '!A11 -> GREEN HORIZON | B12: ='Port Klang West & Pasir Gudang '!B11 -> 113S | D12: =D10+7 -> 44472 | E12: =D12+4 -> 44476 | F12: COSCO JEDDAH 063S | G12: =G10+7 -> 44481 | H12: =G12+2 -> 44483
F13: CMA CGM PUGET 0IH7DS1NC | G13: =G11+7 -> 44483 | H13: =G13+2 -> 44485
A14: ='Port Klang West & Pasir Gudang '!A12 -> SANTA LOUKIA | B14: ='Port Klang West & Pasir Gudang '!B12 -> 176S | D14: =D12+7 -> 44479 | E14: =D14+4 -> 44483 | F14: XIN YING KOU 210S | G14: =G12+7 -> 44488 | H14: =G14+2 -> 44490
F15: TS NINGBO 21009S | G15: =G13+7 -> 44490 | H15: =G15+2 -> 44492
A16: ='Port Klang West & Pasir Gudang '!A13 -> CAPE FAWLEY | B16: ='Port Klang West & Pasir Gudang '!B13 -> 061S | D16: =D14+7 -> 44486 | E16: =D16+4 -> 44490 | F16: COSCO COLOMBO 080S | G16: =G14+7 -> 44495 | H16: =G16+2 -> 44497
F17: CMA CGM PUGET 0IH7HS1NC | G17: =G15+7 -> 44497 | H17: =G17+2 -> 44499
A18: ='Port Klang West & Pasir Gudang '!A14 -> GREEN HORIZON | B18: ='Port Klang West & Pasir Gudang '!B14 -> 114S | D18: =D16+7 -> 44493 | E18: =D18+4 -> 44497 | F18: SPIL KARTINI 015S | G18: =G16+7 -> 44502 | H18: =G18+2 -> 44504
F19: MH GREEN 10S | G19: =G17+7 -> 44504 | H19: =G19+2 -> 44506
A20: ='Port Klang West & Pasir Gudang '!A15 -> SANTA LOUKIA | B20: ='Port Klang West & Pasir Gudang '!B15 -> 177S | D20: =D18+7 -> 44500 | E20: =D20+4 -> 44504 | F20: COSCO JEDDAH 064S | G20: =G18+7 -> 44509 | H20: =G20+2 -> 44511
F21: CMA CGM MONTOIR 0IH7LS1NC | G21: =G19+7 -> 44511 | H21: =G21+2 -> 44513
E23: ABOVE SAILING SCHEDULE IS SUBJECT TO CHANGE WITH /WITHOUT PRIOR NOTICE
A24: CLOSING TIME :
A25: CAT LAI | B25: 08:00 SAT
A27: FEEDER VESSEL | C27: ETD | F27: ETA | G27: INTENDED | H27: ETA
C28: HO CHI MINH | F28: SINGAPORE | G28: CONNECTING VESSEL | H28: SINGAPORE | I28: PENANG
A29: CALA PAGURO | B29: 064S | C29: TCHP | D29: 44471 | E29: SAT | F29: 44473 | G29: SPIL KARTINI 014S | H29: 44472 | I29: =H29+4 -> 44476 | J29: CME
A30: CAPE FAWLEY | B30: 060S | C30: CAT LAI | D30: 44465 | E30: SUN | F30: 44467 | G30: TBA | H30: 44473 | J30: SF8
A31: BLANK | C31: CAT LAI | D31: 44464 | E31: MON | F31: 44468
A32: CSCL LIMA | B32: 115S | C32: CAT LAI | D32: 44466 | E32: MON | F32: 44468
A33: TBA | C33: CAT LAI | D33: 44478 | E33: SAT | F33: 44480 | G33: COSCO JEDDAH 063S | H33: =H29+7 -> 44479 | I33: =I29+7 -> 44483
A34: GREEN HORIZON | B34: 113S | C34: CAT LAI | D34: 44472 | E34: SUN | F34: 44474 | G34: TBA | H34: =H30+7 -> 44480
A35: CALA PAGURO | B35: 064S | C35: CAT LAI | D35: 44471 | E35: MON | F35: 44475
A36: SINAR SORONG | B36: 115S | C36: CAT LAI | D36: 44473 | E36: MON | F36: 44475
A37: CALA PAGURO | B37: 065S | C37: TCHP | D37: 44485 | E37: SAT | F37: 44487 | G37: XIN YING KOU 210S | H37: =H33+7 -> 44486 | I37: =I33+7 -> 44490
A38: SANTA LOUKIA | B38: 176S | C38: CAT LAI | D38: 44479 | E38: SUN | F38: 44481 | G38: TBA | H38: =H34+7 -> 44487
A39: BLANK | B39: 029S | C39: CAT LAI | D39: 44478 | E39: MON | F39: 44482
A40: CSCL LIMA | B40: 116S | C40: CAT LAI | D40: 44480 | E40: MON | F40: 44482
A41: TBA | C41: TCHP | D41: 44492 | E41: SAT | F41: 44494 | G41: COSCO COLOMBO 080S | H41: =H37+7 -> 44493 | I41: =I37+7 -> 44497
A42: CAPE FAWLEY | B42: 061S | C42: CAT LAI | D42: 44486 | E42: SUN | F42: 44488 | G42: TBA | H42: =H38+7 -> 44494
A43: CALA PAGURO | B43: 065S | C43: CAT LAI | D43: 44485 | E43: MON | F43: 44489
A44: SINAR SORONG | B44: 116S | C44: CAT LAI | D44: 44487 | E44: MON | F44: 44489
A45: CALA PAGURO | B45: 066S | C45: TCHP | D45: 44499 | E45: SAT | F45: 44501 | G45: SPIL KARTINI 015S | H45: =H41+7 -> 44500 | I45: =I41+7 -> 44504
A46: GREEN HORIZON | B46: 114S | C46: CAT LAI | D46: 44493 | E46: SUN | F46: 44495 | G46: TBA | H46: =H42+7 -> 44501
...

Sheet Sheet1

Sheet Chittagong via PKG, SGP
A1: COSCO SHIPPING LINES VIETNAM
A4: CHITTAGONG VIA PORT KELANG / SINGAPORE
A6: BACK TO MENU | G6: Updated: | H6: ='KTX1'!D5 -> #REF!
A8: VESSEL NAME | B8: VOYAGE NUMBER | D8: ETD HCM | E8: ETA | F8: INTENDED CONNECTING VESSEL | G8: ETA | H8: ETA
D9: SUN | E9: PORT KLANG WEST | G9: PORT KLANG WEST | H9: CHITTAGONG
A10: ='Port Klang West & Pasir Gudang '!A10 -> CAPE FAWLEY | B10: ='Port Klang West & Pasir Gudang '!B10 -> 060S | D10: ='Port Klang West & Pasir Gudang '!C10 -> 44465 | E10: =D10+4 -> 44469 | F10: TBA | G10: 44473 | H10: =G10+7 -> 44480 | I10: CGX5 / CGX4
F11: TBA | G11: 44472 | H11: =G11+6 -> 44478
A12: ='Port Klang West & Pasir Gudang '!A11 -> GREEN HORIZON | B12: ='Port Klang West & Pasir Gudang '!B11 -> 113S | D12: =D10+7 -> 44472 | E12: =E10+7 -> 44476 | F12: TBA | G12: =G10+7 -> 44480 | H12: =G12+7 -> 44487
F13: TBA | G13: =G11+7 -> 44479 | H13: =G13+6 -> 44485
A14: ='Port Klang West & Pasir Gudang '!A12 -> SANTA LOUKIA | B14: ='Port Klang West & Pasir Gudang '!B12 -> 176S | D14: =D12+7 -> 44479 | E14: =E12+7 -> 44483 | F14: TBA | G14: =G12+7 -> 44487 | H14: =G14+7 -> 44494
F15: TBA | G15: =G13+7 -> 44486 | H15: =G15+6 -> 44492
A16: ='Port Klang West & Pasir Gudang '!A13 -> CAPE FAWLEY | B16: ='Port Klang West & Pasir Gudang '!B13 -> 061S | D16: =D14+7 -> 44486 | E16: =E14+7 -> 44490 | F16: TBA | G16: =G14+7 -> 44494 | H16: =G16+7 -> 44501
F17: TBA | G17: =G15+7 -> 44493 | H17: =G17+6 -> 44499
A18: ='Port Klang West & Pasir Gudang '!A14 -> GREEN HORIZON | B18: ='Port Klang West & Pasir Gudang '!B14 -> 114S | D18: =D16+7 -> 44493 | E18: =E16+7 -> 44497 | F18: TBA | G18: =G16+7 -> 44501 | H18: =G18+7 -> 44508
F19: TBA | G19: =G17+7 -> 44500 | H19: =G19+6 -> 44506
A20: ='Port Klang West & Pasir Gudang '!A15 -> SANTA LOUKIA | B20: ='Port Klang West & Pasir Gudang '!B15 -> 177S | D20: =D18+7 -> 44500 | E20: =E18+7 -> 44504 | F20: TBA | G20: =G18+7 -> 44508 | H20: =G20+7 -> 44515
F21: TBA | G21: =G19+7 -> 44507 | H21: =G21+6 -> 44513
E23: ABOVE SAILING SCHEDULE IS SUBJECT TO CHANGE WITH /WITHOUT PRIOR NOTICE
A24: CLOSING TIME :
A25: CAT LAI | B25: 08:00 SAT
A27: FEEDER VESSEL | C27: ETD | F27: ETA | G27: INTENDED | H27: ETA | I27: ETA
C28: HO CHI MINH | F28: SINGAPORE | G28: CONNECTING VESSEL | H28: SINGAPORE | I28: CHITTAGONG
A29: CALA PAGURO | B29: 064S | C29: TCHP | D29: 44471 | E29: SAT | F29: 44473 | G29: HAIAN EAST 076N | H29: 44473 | I29: =H29+8 -> 44481 | J29: SCX2
A30: CAPE FAWLEY | B30: 060S | C30: CAT LAI | D30: 44465 | E30: SUN | F30: 44467 | G30: BANGKOK 111N | H30: 44470 | I30: =H30+13 -> 44483 | J30: CGX2
A31: BLANK | C31: CAT LAI | D31: 44464 | E31: MON | F31: 44468
A32: CSCL LIMA | B32: 115S | C32: CAT LAI | D32: 44466 | E32: MON | F32: 44468 | G32: SOL MALAYSIA 2114N | H32: 44470 | I32: =H32+8 -> 44478 | J32: CGX4
A33: TBA | C33: CAT LAI | D33: 44478 | E33: SAT | F33: 44480 | G33: TBA | H33: =H29+7 -> 44480 | I33: =H33+8 -> 44488
A34: GREEN HORIZON | B34: 113S | C34: CAT LAI | D34: 44472 | E34: SUN | F34: 44474 | G34: TBA | H34: =H30+7 -> 44477 | I34: =H34+13 -> 44490
A35: CALA PAGURO | B35: 064S | C35: CAT LAI | D35: 44471 | E35: MON | F35: 44475
A36: SINAR SORONG | B36: 115S | C36: CAT LAI | D36: 44473 | E36: MON | F36: 44475 | G36: SOL HIND 2115N | H36: =H32+7 -> 44477 | I36: =H36+8 -> 44485
A37: CALA PAGURO | B37: 065S | C37: TCHP | D37: 44485 | E37: SAT | F37: 44487 | G37: TBA | H37: =H33+7 -> 44487 | I37: =H37+8 -> 44495
A38: SANTA LOUKIA | B38: 176S | C38: CAT LAI | D38: 44479 | E38: SUN | F38: 44481 | G38: TBA | H38: =H34+7 -> 44484 | I38: =H38+13 -> 44497
A39: BLANK | B39: 029S | C39: CAT LAI | D39: 44478 | E39: MON | F39: 44482
A40: CSCL LIMA | B40: 116S | C40: CAT LAI | D40: 44480 | E40: MON | F40: 44482 | G40: SOL MALAYSIA 2115N | H40: =H36+7 -> 44484 | I40: =H40+8 -> 44492
A41: TBA | C41: TCHP | D41: 44492 | E41: SAT | F41: 44494 | G41: TBA | H41: =H37+7 -> 44494 | I41: =H41+8 -> 44502
A42: CAPE FAWLEY | B42: 061S | C42: CAT LAI | D42: 44486 | E42: SUN | F42: 44488 | G42: TBA | H42: =H38+7 -> 44491 | I42: =H42+13 -> 44504
A43: CALA PAGURO | B43: 065S | C43: CAT LAI | D43: 44485 | E43: MON | F43: 44489
A44: SINAR SORONG | B44: 116S | C44: CAT LAI | D44: 44487 | E44: MON | F44: 44489 | G44: TBA | H44: =H40+7 -> 44491 | I44: =H44+8 -> 44499
A45: CALA PAGURO | B45: 066S | C45: TCHP | D45: 44499 | E45: SAT | F45: 44501 | G45: TBA | H45: =H41+7 -> 44501 | I45: =H45+8 -> 44509
A46: GREEN HORIZON | B46: 114S | C46: CAT LAI | D46: 44493 | E46: SUN | F46: 44495 | G46: TBA | H46: =H42+7 -> 44498 | I46: =H46+13 -> 44511
...

Sheet India via  PKG, SGP
A1: COSCO SHIPPING LINES VIETNAM
F4: INDIA SERVICES
A5: BACK TO MENU
A6: NEW SERVICE TO CHENNAI / VISAKHAPATNAM / KATTUPALLI
H7: Updated: | I7: ='KTX1'!D5 -> #REF!
A9: VESSEL NAME | B9: VOYAGE NUMBER | D9: ETD HCM | E9: ETA | F9: INTENDED CONNECTING VESSEL | G9: ETA PKG | H9: ETA
D10: SUN | E10: PORT KLANG WEST | H10: CHENNAI | I10: VISAKHAPATNAM | J10: KATTUPALLI
A11: ='Port Klang West & Pasir Gudang '!A10 -> CAPE FAWLEY | B11: ='Port Klang West & Pasir Gudang '!B10 -> 060S | D11: ='Port Klang West & Pasir Gudang '!C10 -> 44465 | E11: =D11+4 -> 44469 | F11: INTERASIA CATALYST W007 | G11: 44472 | H11: =G11+5 -> 44477 | J11: =G11+7 -> 44479 | K11: FCE
F12: XIN LIAN YUN GANG 088W | G12: 44470 | H12: =G12+6 -> 44476 | I12: =G12+10 -> 44480 | K12: FCS
A13: ='Port Klang West & Pasir Gudang '!A11 -> GREEN HORIZON | B13: ='Port Klang West & Pasir Gudang '!B11 -> 113S | D13: =D11+7 -> 44472 | E13: =E11+7 -> 44476 | F13: OOCL ZHOUSHAN 234W | G13: =G11+7 -> 44479 | H13: =H11+7 -> 44484 | J13: =J11+7 -> 44486
F14: CMA CGM RACINE 0FD45W1MA | G14: =G12+7 -> 44477 | H14: =H12+7 -> 44483 | I14: =I12+7 -> 44487
A15: ='Port Klang West & Pasir Gudang '!A12 -> SANTA LOUKIA | B15: ='Port Klang West & Pasir Gudang '!B12 -> 176S | D15: =D13+7 -> 44479 | E15: =E13+7 -> 44483 | F15: TONGVA W014 | G15: =G13+7 -> 44486 | H15: =H13+7 -> 44491 | J15: =J13+7 -> 44493
F16: TS SYDNEY 21007W | G16: =G14+7 -> 44484 | H16: =H14+7 -> 44490 | I16: =I14+7 -> 44494
A17: CAPE FAWLEY | B17: 057S | D17: =D15+7 -> 44486 | E17: =E15+7 -> 44490 | F17: ATHENS BRIDGE 122W | G17: =G15+7 -> 44493 | H17: =H15+7 -> 44498 | J17: =J15+7 -> 44500
F18: TBA | G18: =G16+7 -> 44491 | H18: =H16+7 -> 44497 | I18: =I16+7 -> 44501
A19: ='Port Klang West & Pasir Gudang '!A14 -> GREEN HORIZON | B19: ='Port Klang West & Pasir Gudang '!B14 -> 114S | D19: =D17+7 -> 44493 | E19: =E17+7 -> 44497 | F19: XIN WEN ZHOU 137W | G19: =G17+7 -> 44500 | H19: =H17+7 -> 44505 | J19: =J17+7 -> 44507
F20: AKA BHUM 004W | G20: =G18+7 -> 44498 | H20: =H18+7 -> 44504 | I20: =I18+7 -> 44508
A21: ='Port Klang West & Pasir Gudang '!A15 -> SANTA LOUKIA | B21: ='Port Klang West & Pasir Gudang '!B15 -> 177S | D21: =D19+7 -> 44500 | E21: =E19+7 -> 44504 | F21: INTERASIA CATALYST W008 | G21: =G19+7 -> 44507 | H21: =H19+7 -> 44512 | J21: =J19+7 -> 44514
F22: KMTC MUMBAI 2107W | G22: =G20+7 -> 44505 | H22: =H20+7 -> 44511 | I22: =I20+7 -> 44515
I24: ABOVE SAILING SCHEDULE IS SUBJECT TO CHANGE WITH /WITHOUT PRIOR NOTICE
A25: 08:00 AM SAT in CAT LAI
A28: FEEDER VESSEL | C28: ETD | F28: ETA | G28: INTENDED | H28: ETA | I28: ETA
D29: HOCHIMINH | F29: SINGAPORE | G29: CONNECTING VESSEL | H29: SINGAPORE | I29: CHENNAI | J29: VISAKHAPATNAM | K29: KATTUPALLI
A30: CALA PAGURO | B30: 064S | C30: TCHP | D30: 44471 | E30: SAT | F30: 44473 | G30: INTERASIA CATALYST W007 | H30: 44470 | I30: =H30+7 -> 44477 | K30: =H30+9 -> 44479 | L30: FCE
A31: CAPE FAWLEY | B31: 060S | C31: CAT LAI | D31: 44465 | E31: SUN | F31: 44467 | G31: CMA CGM RACINE 0FD45W1MA | H31: 44476 | I31: =H31+7 -> 44483 | J31: =H31+11 -> 44487 | L31: FCS
A32: BLANK | C32: CAT LAI | D32: 44464 | E32: MON | F32: 44468
A33: CSCL LIMA | B33: 115S | C33: CAT LAI | D33: 44466 | E33: MON | F33: 44468 | G33: WIDE JULIET 004W | H33: 44471 | I33: =H33+9 -> 44480 | K33: =H33+8 -> 44479 | L33: TCX
A34: TBA | C34: CAT LAI | D34: 44478 | E34: SAT | F34: 44480 | G34: OOCL ZHOUSHAN 234W | H34: =H30+7 -> 44477 | I34: =I30+7 -> 44484 | K34: =K30+7 -> 44486
A35: GREEN HORIZON | B35: 113S | C35: CAT LAI | D35: 44472 | E35: SUN | F35: 44474 | G35: TS SYDNEY 21007W | H35: =H31+7 -> 44483 | I35: =I31+7 -> 44490 | J35: =J31+7 -> 44494
A36: CALA PAGURO | B36: 064S | C36: CAT LAI | D36: 44471 | E36: MON | F36: 44475
A37: SINAR SORONG | B37: 115S | C37: CAT LAI | D37: 44473 | E37: MON | F37: 44475 | G37: XIN QIN HUANG DAO 073W | H37: =H33+7 -> 44478 | I37: =I33+7 -> 44487 | K37: =K33+7 -> 44486
A38: CALA PAGURO | B38: 065S | C38: TCHP | D38: 44485 | E38: SAT | F38: 44487 | G38: TONGVA W014 | H38: =H34+7 -> 44484 | I38: =I34+7 -> 44491 | K38: =K34+7 -> 44493
A39: SANTA LOUKIA | B39: 176S | C39: CAT LAI | D39: 44479 | E39: SUN | F39: 44481 | G39: TBA | H39: =H35+7 -> 44490 | I39: =I35+7 -> 44497 | J39: =J35+7 -> 44501
A40: BLANK | B40: 029S | C40: CAT LAI | D40: 44478 | E40: MON | F40: 44482
A41: CSCL LIMA | B41: 116S | C41: CAT LAI | D41: 44480 | E41: MON | F41: 44482 | G41: OSAKA 21003W | H41: =H37+7 -> 44485 | I41: =I37+7 -> 44494 | K41: =K37+7 -> 44493
A42: TBA | C42: TCHP | D42: 44492 | E42: SAT | F42: 44494 | G42: ATHENS BRIDGE 122W | H42: =H38+7 -> 44491 | I42: =I38+7 -> 44498 | K42: =K38+7 -> 44500
A43: CAPE FAWLEY | B43: 061S | C43: CAT LAI | D43: 44486 | E43: SUN | F43: 44488 | G43: AKA BHUM 004W | H43: =H39+7 -> 44497 | I43: =I39+7 -> 44504 | J43: =J39+7 -> 44508
A44: CALA PAGURO | B44: 065S | C44: CAT LAI | D44: 44485 | E44: MON | F44: 44489
A45: SINAR SORONG | B45: 116S | C45: CAT LAI | D45: 44487 | E45: MON | F45: 44489 | G45: VERMONT TRADER 027W | H45: =H41+7 -> 44492 | I45: =I41+7 -> 44501 | K45: =K41+7 -> 44500
A46: CALA PAGURO | B46: 066S | C46: TCHP | D46: 44499 | E46: SAT | F46: 44501 | G46: XIN WEN ZHOU 137W | H46: =H42+7 -> 44498 | I46: =I42+7 -> 44505 | K46: =K42+7 -> 44507
...
