Workbook

Sheet MENU
A2: COSCO SHIPPING LINES (VIETNAM)
B7: AFRICA& SOUTH EAST AMERICA SERVICE
A8: CLICK HERE | B8: WCSA - (MANZANILLO, LAZARO CARDENAS, PUERTO QUETZAL, BUENAVENTURA, GUAYAQUIL, CALLAO, SAN ANTONIO via NINGBO)
A9: CLICK HERE | B9: COLON CONTAINER TERMINAL via QINGDAO
A10: CLICK HERE | B10: WCSA - ENSENADA, MANZANILLO (MEXICO), CALLAO, SAN ANTONIO via QINGDAO
A11: CLICK HERE | B11: PANAMA & CARIBBEAN - ENSENADA, MANZANILLO(MEXICO/PANAMA), CARTAGENA, KINGSTON, CAUCEDO, PORT OF SPAIN via TAO
A12: CLICK HERE | B12: SOUTH AFRICA (DURBAN, CAPE TOWN)
A13: CLICK HERE | B13: SOUTH AMERICA via SINGAPORE (SANTOS,MONTEVIDEO,BUENOS AIRES , RIO DE JANEIRO, NAGEGANTES, PARANAGUA)
A14: CLICK HERE | B14: EAST AFRICA (MOMBASA, DAR ES SALAAM)
A15: CLICK HERE | B15: WEST AFRICA via PKL (APAPA, TINCAN, TEMA)
A18: For rate inquiries, please contact :
A19: COSCO SHIPPING LINES (VIETNAM)
A20: SAFI TOWER, 209 NGUYEN VAN THU STREET, DISTRICT 1, HO CHI MINH CITY
A21: TEL : 84.8.38290000 FAX : 84.8. 39307268
A22: WEBSITE: WWW.COSCON.COM

Sheet MANZANILLO via SHA
B1: COSCO SHIPPING LINES (VIETNAM)
B2: MANZANILLO, MX via SHA (WSA Service)
A7: BACK TO MENU
A8: FEEDER (CV2-N) | C8: ETD | D8: ETA | E8: INTENDED | G8: SHANGHAI | H8: ETA
C9: CAT LAI | D9: SHANGHAI | E9: CONNECTING VESSEL | G9: ETA | H9: MANZANILLO, MX (ZLO04)
A11: AS PENELOPE | B11: 092N | C11: 44539 | D11: =C11+12 -> 44551 | E11: EVER LIBRA | F11: 0551-059E | G11: 44551 | H11: =+G11+20 -> 44571 | I11: WSA-E
A14: NZ NINGBO | B14: 007N | C14: 44545 | D14: =C14+12 -> 44557 | E14: EVER LOADING | F14: 048E | G14: 44561 | H14: =+G14+20 -> 44581
A17: JINYUNHE | B17: 372N | C17: 44547 | D17: =C17+12 -> 44559 | E17: YM UTILITY | F17: 075E | G17: =+G14+7 -> 44568 | H17: =+G17+20 -> 44588
A20: ZHONG HANG SHENG | B20: 141N | C20: 44548 | D20: =C20+12 -> 44560
H24: ABOVE SAILING SCHEDULE IS SUBJECT TO CHANGE WITH /WITHOUT PRIOR NOTICE
A25: Remarks for closing time:
A26: 14:00 FRI at CAT LAI
A28: For rate inquiries, please contact : msdsgn@coscon.com
A29: For booking inquiries, please contact : sgn.oth.cus@coscon.com

Sheet WCSA via NGB
B1: COSCO SHIPPING LINES (VIETNAM)
B2: CENTRAL & SOUTH AMERICA SERVICE (WCSA) via NGB
B3: ACAJUTLA/ SAN LORENZO/ CORINTO/ CALDERA via MANZANILLO,MX by FEEDER
B4: VALPARAISO via CALLAO (STOP SVC FROM 8-MAY-19) / BUNAVENTURA
B5: IQUIQUE via CALLAO (WSA2, WSA3, WSA4)
A7: BACK TO MENU
A8: FEEDER (CV2-N) | C8: ETD | D8: ETA | E8: INTENDED | G8: T/S NINGBO | H8: ETA
C9: CAT LAI | D9: NINGBO | E9: CONNECTING VESSEL | G9: ETA | H9: MANZANILLO, MX | I9: LAZARO CARDENAS | J9: BUENAVENTURA | K9: BALBOA | L9: PUERTO QUETZAL | M9: CALLAO | N9: GUAYAQUIL | O9: SAN ANTONIO
E10: =+'MANZANILLO via SHA'!E11 -> EVER LIBRA | F10: =+'MANZANILLO via SHA'!F11 -> 0551-059E | G10: =+'MANZANILLO via SHA'!G11 -> 44551 | H10: =G10+19 -> 44570 | I10: - | J10: =+K10+2 -> 44579 | K10: =+H10+7 -> 44577 | L10: - | M10: =+K10+6 -> 44583 | N10: - | O10: =G10+37 -> 44588 | P10: WSA
A11: =+'MANZANILLO via SHA'!A11 -> AS PENELOPE | B11: =+'MANZANILLO via SHA'!B11 -> 092N | C11: =+'MANZANILLO via SHA'!C11 -> 44539 | D11: =+C11+10 -> 44549 | E11: EVER ELITE | F11: 0451-154E | G11: 44553 | H11: =G11+20 -> 44573 | I11: =G11+22 -> 44575 | J11: - | K11: - | L11: =G11+24 -> 44577 | M11: =G11+31 -> 44584 | N11: =G11+35 -> 44588 | O11: - | P11: WSA2
E12: CMA CGM MUMBAI | F12: 0MHA1E1MA | G12: 44553 | H12: =G12+22 -> 44575 | I12: =G12+23 -> 44576 | J12: - | K12: - | L12: - | M12: =+G12+34 -> 44587 | N12: =+G12+37 -> 44590 | O12: - | P12: WSA4
E13: =+'MANZANILLO via SHA'!E14 -> EVER LOADING | F13: =+'MANZANILLO via SHA'!F14 -> 048E | G13: =+'MANZANILLO via SHA'!G14 -> 44561 | H13: =G13+19 -> 44580 | I13: - | J13: =+K13+2 -> 44589 | K13: =+H13+7 -> 44587 | L13: - | M13: =+K13+6 -> 44593 | N13: - | O13: =G13+37 -> 44598
A14: =+'MANZANILLO via SHA'!A14 -> NZ NINGBO | B14: =+'MANZANILLO via SHA'!B14 -> 007N | C14: =+'MANZANILLO via SHA'!C14 -> 44545 | D14: =C14+10 -> 44555 | E14: KOTA PUSAKA | F14: 016E | G14: =G11+7 -> 44560 | H14: =G14+20 -> 44580 | I14: =G14+22 -> 44582 | J14: - | K14: - | L14: =G14+24 -> 44584 | M14: =G14+31 -> 44591 | N14: =G14+35 -> 44595 | O14: -
E15: CMA CGM TUTICORIN | F15: 0MHA3E1MA | G15: 44560 | H15: =G15+22 -> 44582 | I15: =G15+23 -> 44583 | J15: - | K15: - | L15: - | M15: =+G15+34 -> 44594 | N15: =+G15+37 -> 44597 | O15: -
E16: =+'MANZANILLO via SHA'!E17 -> YM UTILITY | F16: =+'MANZANILLO via SHA'!F17 -> 075E | G16: =+'MANZANILLO via SHA'!G17 -> 44568 | H16: =G16+19 -> 44587 | I16: - | J16: =+K16+2 -> 44596 | K16: =+H16+7 -> 44594 | L16: - | M16: =+K16+6 -> 44600 | N16: - | O16: =G16+37 -> 44605
A17: =+'MANZANILLO via SHA'!A17 -> JINYUNHE | B17: =+'MANZANILLO via SHA'!B17 -> 372N | C17: =+'MANZANILLO via SHA'!C17 -> 44547 | D17: =C17+10 -> 44557 | E17: XIN FU ZHOU | F17: 069E | G17: =G14+7 -> 44567 | H17: =G17+20 -> 44587 | I17: =G17+22 -> 44589 | J17: - | K17: - | L17: =G17+24 -> 44591 | M17: =G17+31 -> 44598 | N17: =G17+35 -> 44602 | O17: -
E18: CMA CGM CHENNAI | F18: 0MHA5E1MA | G18: 44202 | H18: =G18+22 -> 44224 | I18: =G18+23 -> 44225 | J18: - | K18: - | L18: - | M18: =+G18+34 -> 44236 | N18: =+G18+37 -> 44239 | O18: -
A20: =+'MANZANILLO via SHA'!A20 -> ZHONG HANG SHENG | B20: 070N | C20: =+'MANZANILLO via SHA'!C20 -> 44548 | D20: =C20+10 -> 44558
O25: ABOVE SAILING SCHEDULE IS SUBJECT TO CHANGE WITH /WITHOUT PRIOR NOTICE
A26: Remarks for closing time:
A27: 14:00 FRI at CAT LAI
A29: For rate inquiries, please contact : msdsgn@coscon.com
A30: For booking inquiries, please contact : sgn.oth.cus@coscon.com

Sheet COLON via TAO
B1: COSCO SHIPPING LINES (VIETNAM)
B2: Colon Container Terminal (transit service via AWE1)
A8: BACK TO MENU
A9: FEEDER (CV2 E) | C9: ETD | D9: ETA | E9: INTENDED | G9: T/S QINGDAO | H9: ETA
C10: CAT LAI | D10: TAO | E10: CONNECTING VESSEL | G10: ETA | H10: Colon Container Terminal
A11: AS PAMELA | B11: 035E | C11: 44535 | D11: =C11+7 -> 44542 | E11: EVER LOVELY | F11: 1036E | G11: 44544 | H11: =G11+27 -> 44571 | I11: AWE1-E
A12: AS PENELOPE | B12: 092E | C12: 44542 | D12: =D11+7 -> 44549 | E12: EVER FAITH | F12: 1037E | G12: 44551 | H12: =G12+27 -> 44578
A13: NZ NINGBO | B13: 007E | C13: 44549 | D13: =D12+7 -> 44556 | E13: APL SOUTHAMPTON | F13: 0VCAXE1MA | G13: 44559 | H13: =G13+27 -> 44586
A14: ZHONG HANG SHENG | B14: 141E | C14: 44556 | D14: =D13+7 -> 44563 | E14: EVER FORE | F14: 1039E | G14: 44201 | H14: =G14+27 -> 44228
I16: ABOVE SAILING SCHEDULE IS SUBJECT TO CHANGE WITH /WITHOUT PRIOR NOTICE
A17: Remarks for closing time:
A18: 14:00 FRI at CAT LAI
A19: 02:00 MON at CAT LAI
A21: For rate inquiries, please contact : msdsgn@coscon.com
A22: For booking inquiries, please contact : sgn.oth.cus@coscon.com

Sheet WCSA via TAO
B1: COSCO SHIPPING LINES (VIETNAM)
B2: WCSA via QINGDAO
B3: VALPARAISO via CALLAO (STOP SVC FROM 8-MAY-19)
A7: BACK TO MENU
A8: FEEDER (CV2 E) | C8: ETD | D8: ETA | E8: INTENDED | G8: T/S QINGDAO | H8: ETA
C9: CAT LAI | D9: TAO | E9: CONNECTING VESSEL | G9: ETA | H9: ENSENADA | I9: MANZANILLO, MX (ZLO03) | J9: CALLAO | K9: LIRQUEN, CHILE | L9: SAN ANTONIO, CHILE
A10: =+'COLON via TAO'!A11 -> AS PAMELA | B10: =+'COLON via TAO'!B11 -> 035E | C10: =+'COLON via TAO'!C11 -> 44535 | D10: =C10+7 -> 44542 | E10: OOCL HO CHI MINH CITY | F10: 053E | G10: 44547 | H10: =G10+17 -> 44564 | I10: =G10+22 -> 44569 | J10: =+G10+29 -> 44576 | K10: =G10+34 -> 44581 | L10: =G10+36 -> 44583 | M10: WSA3-E
A11: =+'COLON via TAO'!A12 -> AS PENELOPE | B11: =+'COLON via TAO'!B12 -> 092E | C11: =+'COLON via TAO'!C12 -> 44542 | D11: =C11+7 -> 44549 | E11: XIN YANG PU | F11: 144E | G11: 44554 | H11: =G11+17 -> 44571 | I11: =G11+22 -> 44576 | J11: =+G11+29 -> 44583 | K11: =G11+34 -> 44588 | L11: =G11+36 -> 44590
A12: =+'COLON via TAO'!A13 -> NZ NINGBO | B12: =+'COLON via TAO'!B13 -> 007E | C12: =+'COLON via TAO'!C13 -> 44549 | D12: =C12+7 -> 44556 | E12: COSCO NEW YORK | F12: 117E | G12: 44561 | H12: =G12+17 -> 44578 | I12: =G12+22 -> 44583 | J12: =+G12+29 -> 44590 | K12: =G12+34 -> 44595 | L12: =G12+36 -> 44597
A13: =+'COLON via TAO'!A14 -> ZHONG HANG SHENG | B13: =+'COLON via TAO'!B14 -> 141E | C13: =+'COLON via TAO'!C14 -> 44556 | D13: =C13+7 -> 44563 | E13: HENG HUI 6 | F13: 005E | G13: 44205 | H13: =G13+17 -> 44222 | I13: =G13+22 -> 44227 | J13: =+G13+29 -> 44234 | K13: =G13+34 -> 44239 | L13: =G13+36 -> 44241
L15: ABOVE SAILING SCHEDULE IS SUBJECT TO CHANGE WITH /WITHOUT PRIOR NOTICE
A16: Remarks for closing time:
A17: 14:00 FRI at CAT LAI
A18: 02:00 MON at CAT LAI
A20: For rate inquiries, please contact : msdsgn@coscon.com
A21: For booking inquiries, please contact : sgn.oth.cus@coscon.com

Sheet Panama+Caribbean via TAO
B1: COSCO SHIPPING LINES (VIETNAM)
B2: PANAMA & CARIBBEAN via TAO
B3: ACAJUTLA/ SAN LORENZO/ CORINTO/ CALDERA via MANZANILLO,MX by FEEDER
B4: ALTAMIRA/VERACRUZ/PROGRESO via KINGSTON by FEEDER
A7: BACK TO MENU
A8: FEEDER (CV2-N & CV2-E) | C8: ETD | D8: ETA | E8: INTENDED | G8: T/S QINGDAO | H8: ETA
C9: CAT LAI | D9: TAO | E9: CONNECTING VESSEL | G9: ETA | H9: MANZANILLO, MX (ZLO03) | I9: BALBOA (BBA01) | J9: MANZANILLO, PANAMA (MZL01) | K9: CARTAGENA (CTG02) | L9: KINGSTON (KIG01) | M9: CAUCEDO (CAU01) | N9: PORT OF SPAIN (via CAUCEDO)
A10: =+'WCSA via TAO'!A10 -> AS PAMELA | B10: =+'WCSA via TAO'!B10 -> 035E | C10: =+'WCSA via TAO'!C10 -> 44535 | D10: =C10+7 -> 44542 | E10: APL YANGSHAN | F10: 0PPB7E1MA | G10: 44544 | H10: =G10+19 -> 44563 | I10: =G10+24 -> 44568 | J10: =G10+25 -> 44569 | K10: =G10+28 -> 44572 | L10: =G10+30 -> 44574 | M10: =G10+34 -> 44578 | N10: =M10+7 -> 44585 | O10: CAX1 E
A11: =+'WCSA via TAO'!A11 -> AS PENELOPE | B11: =+'WCSA via TAO'!B11 -> 092E | C11: =+'WCSA via TAO'!C11 -> 44542 | D11: =C11+7 -> 44549 | E11: COSCO GUANGZHOU | F11: 0PPB3E1MA | G11: =G10+7 -> 44551 | H11: =G11+19 -> 44570 | I11: =G11+24 -> 44575 | J11: =G11+25 -> 44576 | K11: =G11+28 -> 44579 | L11: =G11+30 -> 44581 | M11: =G11+34 -> 44585 | N11: =M11+7 -> 44592
A12: =+'WCSA via TAO'!A12 -> NZ NINGBO | B12: =+'WCSA via TAO'!B12 -> 007E | C12: =+'WCSA via TAO'!C12 -> 44549 | D12: =C12+7 -> 44556 | E12: APL SALALAH | F12: 0PPB5E1MA | G12: =G11+7 -> 44558 | H12: =G12+19 -> 44577 | I12: =G12+24 -> 44582 | J12: =G12+25 -> 44583 | K12: =G12+28 -> 44586 | L12: =G12+30 -> 44588 | M12: =G12+34 -> 44592 | N12: =M12+7 -> 44599
A13: =+'WCSA via TAO'!A13 -> ZHONG HANG SHENG | B13: =+'WCSA via TAO'!B13 -> 141E | C13: =+'WCSA via TAO'!C13 -> 44556 | D13: =C13+7 -> 44563 | E13: CSCL LONG BEACH | F13: 0PPB7E1MA | G13: =G12+7 -> 44565 | H13: =G13+19 -> 44584 | I13: =G13+24 -> 44589 | J13: =G13+25 -> 44590 | K13: =G13+28 -> 44593 | L13: =G13+30 -> 44595 | M13: =G13+34 -> 44599 | N13: =M13+7 -> 44606
A16: Remarks for closing time:
A17: 14:00 FRI at CAT LAI
A18: 02:00 MON at CAT LAI | N18: ABOVE SAILING SCHEDULE IS SUBJECT TO CHANGE WITH /WITHOUT PRIOR NOTICE
A20: For rate inquiries, please contact : msdsgn@coscon.com
A21: For booking inquiries, please contact : sgn.oth.cus@coscon.com
A23: Shipments to Cuba will be transshipped at Cartagena instead of Manzanillo, Panama on CAX1 lines wef 1/Sep/2019.

Sheet S.AFRICA via SIN
B1: COSCO SHIPPING LINES (VIETNAM)
B2: SOUTH AFRICA + SOUTH WEST AFRICA + WEST AFRICA SERVICE via SGP
B3: (JOHANNESBURG & PRETORIA via DURBAN by RAIL)
A5: BACK TO MENU
A6: FEEDER (QVS - VTS - IHX) | C6: ETD | E6: ETA | F6: INTENDED | H6: T/S SINGAPORE | I6: ETA
C7: CAT LAI | E7: SIN | F7: CONNECTING VESSEL | H7: ETA | I7: DURBAN | J7: CAPE TOWN | K7: POINTE NOIRE | L7: LUANDA(Sogester) (LDA01) | M7: APAPA | N7: TINCAN | O7: TEMA (MPS New Terminal 3) | P7: LOME | Q7: ABIDJAN | R7: COTONOU | S7: ONNE
F8: COSCO WELLINGTON | G8: 078W | H8: 44548 | I8: =H8+15 -> 44563 | J8: - | K8: - | L8: - | M8: - | N8: - | O8: - | P8: - | Q8: - | R8: - | S8: - | T8: ZAX3
F9: KOTA LAWA | G9: 070W | H9: 44541 | I9: =+H9+18 -> 44559 | J9: - | K9: - | L9: - | M9: - | N9: - | O9: - | P9: - | Q9: - | R9: - | S9: - | T9: ZAX2
A10: SANTA LOUKIA | B10: 183S | C10: 44534 | D10: SAT | E10: =C10+2 -> 44536 | F10: CSCL AFRICA | G10: 050W | H10: 44540 | I10: - | J10: =+H10+18 -> 44558 | K10: =+J10+9 -> 44567 | L10: =+K10+5 -> 44572 | M10: - | N10: - | O10: - | P10: - | Q10: - | R10: - | S10: - | T10: WAX4
A11: SPIRIT OF CAPE TOWN | B11: 002S | C11: 44536 | D11: MON | E11: =C11+2 -> 44538 | F11: BLANK SAILING | I11: - | J11: - | K11: - | L11: - | N11: - | O11: - | Q11: - | R11: - | T11: WAX2
F12: BLANK SAILING | I12: - | J12: - | K12: - | L12: - | N12: - | O12: - | Q12: - | R12: - | T12: WAX3
F13: GIALOVA | G13: 149W | H13: 44545 | I13: - | J13: - | K13: - | L13: - | M13: =+N13+3 -> 44576 | N13: =+O13+3 -> 44573 | O13: =+H13+25 -> 44570 | P13: - | Q13: =H13+35 -> 44580 | R13: - | S13: - | T13: WAX1
F14: SEAMAX STAMFORD | G14: 129W | H14: 44555 | I14: =H14+15 -> 44570 | J14: - | K14: - | L14: - | M14: - | N14: - | O14: - | P14: - | Q14: - | R14: - | S14: - | T14: ZAX3
F15: COSCO ASHDOD | G15: 069W | H15: 44548 | I15: =+H15+18 -> 44566 | J15: - | K15: - | L15: - | M15: - | N15: - | O15: - | P15: - | Q15: - | R15: - | S15: - | T15: ZAX2
A16: CAPE FAWLEY | B16: 064S | C16: 44541 | D16: SAT | E16: =C16+2 -> 44543 | F16: MAERSK AMAZON | G16: 148W | H16: 44547 | I16: - | J16: =+H16+18 -> 44565 | K16: =+J16+9 -> 44574 | L16: =+K16+5 -> 44579 | M16: - | N16: - | O16: - | P16: - | Q16: - | R16: - | S16: - | T16: WAX4
A17: CSCL LIMA | B17: 120S | C17: 44543 | D17: MON | E17: =C17+2 -> 44545 | F17: BLANK SAILING | I17: - | J17: - | K17: - | L17: - | N17: - | O17: - | Q17: - | R17: - | T17: WAX2
F18: BAHAMAS | G18: 129W | H18: 44549 | I18: - | J18: - | K18: - | L18: - | M18: - | N18: - | O18: =+P18+2 -> 44576 | P18: =+H18+25 -> 44574 | Q18: - | R18: =+O18+2 -> 44578 | S18: =+R18+2 -> 44580 | T18: WAX3
F19: HARPY HUNTER | G19: 150W | H19: 44552 | I19: - | J19: - | K19: - | L19: - | M19: =+N19+3 -> 44583 | N19: =+O19+3 -> 44580 | O19: =+H19+25 -> 44577 | P19: - | Q19: =H19+35 -> 44587 | R19: - | S19: - | T19: WAX1
F20: BEAR MOUNTAIN BRIDGE | G20: 100W | H20: 44197 | I20: =H20+15 -> 44212 | J20: - | K20: - | L20: - | M20: - | N20: - | O20: - | P20: - | Q20: - | R20: - | S20: - | T20: ZAX3
F21: COSCO SURABAYA | G21: 103W | H21: 44555 | I21: =+H21+18 -> 44573 | J21: =H21+24 -> 44579 | K21: - | L21: - | M21: - | N21: - | O21: - | P21: - | Q21: - | R21: - | S21: - | T21: ZAX2
A22: BLANK | C22: 44548 | D22: SUN | E22: =C22+2 -> 44550 | F22: BLANK SAILING | I22: - | J22: - | K22: - | L22: - | N22: - | O22: - | Q22: - | R22: - | T22: WAX4
A23: SPIRIT OF CAPE TOWN | B23: 003S | C23: 44550 | D23: MON | E23: =C23+2 -> 44552 | F23: BLANK SAILING | I23: - | J23: - | K23: - | L23: - | N23: - | O23: - | Q23: - | R23: - | T23: WAX2
F24: STAMATIS B | G24: 150W | H24: 44556 | I24: - | J24: - | K24: - | L24: - | M24: - | N24: - | O24: =+P24+2 -> 44583 | P24: =+H24+25 -> 44581 | Q24: - | R24: =+O24+2 -> 44585 | S24: =+R24+2 -> 44587 | T24: WAX3
F25: RHL CONCORDIA | G25: 114W | H25: 44559 | I25: - | J25: - | K25: - | L25: - | M25: =+N25+3 -> 44590 | N25: =+O25+3 -> 44587 | O25: =+H25+25 -> 44584 | P25: - | Q25: =H25+35 -> 44594 | R25: - | S25: - | T25: WAX1
F26: ITAL UNIVERSO | G26: 151W | H26: 44204 | I26: =H26+15 -> 44219 | J26: - | K26: - | L26: - | M26: - | N26: - | O26: - | P26: - | Q26: - | R26: - | S26: - | T26: ZAX3
F27: COSCO AQABA | G27: 063W | H27: 44197 | I27: =+H27+18 -> 44215 | J27: 44398 | K27: - | L27: - | M27: - | N27: - | O27: - | P27: - | Q27: - | R27: - | S27: - | T27: ZAX2
A28: SANTA LOUKIA | B28: 184S | C28: 44555 | D28: SAT | E28: =C28+2 -> 44557 | F28: APL CHARLESTON | G28: 04FB3W1MA | H28: 44561 | I28: - | J28: =+H28+18 -> 44579 | K28: =+J28+9 -> 44588 | L28: =+K28+5 -> 44593 | M28: - | N28: - | O28: - | P28: - | Q28: - | R28: - | S28: - | T28: WAX4
A29: CSCL LIMA | B29: 121S | C29: 44557 | D29: MON | E29: =C29+2 -> 44559 | F29: BLANK SAILING | I29: - | J29: - | K29: - | L29: - | N29: - | O29: - | Q29: - | R29: - | T29: WAX2
F30: BLANK SAILING | I30: - | J30: - | K30: - | L30: - | N30: - | O30: - | Q30: - | R30: - | T30: WAX3
F31: SEASPAN KYOTO | G31: 091W | H31: 44208 | I31: - | J31: - | K31: - | L31: - | M31: =+N31+3 -> 44239 | N31: =+O31+3 -> 44236 | O31: =+H31+25 -> 44233 | P31: - | Q31: =H31+35 -> 44243 | R31: - | S31: - | T31: WAX1
S41: ABOVE SAILING SCHEDULE IS SUBJECT TO CHANGE WITH /WITHOUT PRIOR NOTICE
A42: Remarks for closing time:
A43: 22:00 FRI in TCHP // 04:00 AM FRI in CAT LAI // 22:00 PM THU at TRANSIMEX, TANAMEXCO (don’t accept ICD PHUOCLONG /BINHDUONG)
A44: 08:00 AM SAT in CAT LAI (SUN Feeder)
A45: 07:00 AM SUN in CAT LAI
A47: For rate inquiries, please contact : msdsgn@coscon.com
A48: For booking inquiries, please contact : sgn.oth.cus@coscon.com

Sheet S.AMERICA via SIN
B1: COSCO SHIPPING LINES (VIETNAM)
B2: SOUTH AMERICA SERVICE (ECSA) via SGP
A7: BACK TO MENU
A8: FEEDER (QVS - VTS - IHX) | C8: ETD | E8: ETA | F8: INTENDED | H8: T/S SINGAPORE | I8: ETA
C9: CAT LAI | E9: SIN | F9: CONNECTING VESSEL | H9: ETA | I9: RIO DE JANEIRO | J9: ITAGUAI | K9: SANTOS | L9: PARANAGUA | M9: NAVEGANTES | N9: MONTEVIDEO | O9: BUENOS AIRES | P9: RIO GRANDE | Q9: IMBITUBA | R9: ITAJAI | S9: ITAPOA
A11: =+'S.AFRICA via SIN'!A10 -> SANTA LOUKIA | B11: =+'S.AFRICA via SIN'!B10 -> 183S | C11: =+'S.AFRICA via SIN'!C10 -> 44534 | D11: SAT | E11: =C11+2 -> 44536 | F11: COSCO SHIPPING RHINE | G11: 024W | H11: 44543 | I11: =H11+23 -> 44566 | J11: - | K11: =H11+24 -> 44567 | L11: =H11+26 -> 44569 | M11: =H11+27 -> 44570 | N11: =H11+30 -> 44573 | O11: =H11+32 -> 44575 | P11: =H11+36 -> 44579 | Q11: - | R11: - | S11: - | T11: ESA
A12: =+'S.AFRICA via SIN'!A11 -> SPIRIT OF CAPE TOWN | B12: =+'S.AFRICA via SIN'!B11 -> 002S | C12: =+'S.AFRICA via SIN'!C11 -> 44536 | D12: MON | E12: =+C12+2 -> 44538
F13: CARDIFF | G13: 0BDB6W1MA | H13: 44550 | I13: - | J13: =H13+24 -> 44574 | K13: =H13+26 -> 44576 | L13: =H13+28 -> 44578 | M13: =H13+29 -> 44579 | N13: - | O13: - | P13: - | Q13: - | R13: =H13+30 -> 44580 | S13: =H13+29 -> 44579 | T13: ESA2
A15: =+'S.AFRICA via SIN'!A16 -> CAPE FAWLEY | B15: =+'S.AFRICA via SIN'!B16 -> 064S | C15: =+'S.AFRICA via SIN'!C16 -> 44541 | D15: SAT | E15: =C15+2 -> 44543 | F15: COSCO SHIPPING DANUBE | G15: 030W | H15: 44550 | I15: =H15+23 -> 44573 | J15: - | K15: =H15+24 -> 44574 | L15: =H15+26 -> 44576 | M15: =H15+27 -> 44577 | N15: =H15+30 -> 44580 | O15: =H15+32 -> 44582 | P15: =H15+36 -> 44586 | Q15: - | R15: - | S15: - | T15: ESA
A16: =+'S.AFRICA via SIN'!A17 -> CSCL LIMA | B16: =+'S.AFRICA via SIN'!B17 -> 120S | C16: =+'S.AFRICA via SIN'!C17 -> 44543 | D16: MON | E16: =C16+2 -> 44545
F17: KOTA LIMA | G17: 0002W | H17: 44550 | I17: - | J17: =H17+24 -> 44574 | K17: =H17+26 -> 44576 | L17: =H17+28 -> 44578 | M17: =H17+29 -> 44579 | N17: - | O17: - | P17: - | Q17: - | R17: =H17+30 -> 44580 | S17: =H17+29 -> 44579 | T17: ESA2
A19: =+'S.AFRICA via SIN'!A22 -> BLANK | B19: =+'S.AFRICA via SIN'!B22 -> 0 | C19: =+'S.AFRICA via SIN'!C22 -> 44548 | D19: SUN | E19: =C19+2 -> 44550 | F19: EVER LIFTING | G19: 1464-043W | H19: 44557 | I19: =H19+23 -> 44580 | J19: - | K19: =H19+24 -> 44581 | L19: =H19+26 -> 44583 | M19: =H19+27 -> 44584 | N19: =H19+30 -> 44587 | O19: =H19+32 -> 44589 | P19: =H19+36 -> 44593 | Q19: - | R19: - | S19: - | T19: ESA
A20: =+'S.AFRICA via SIN'!A23 -> SPIRIT OF CAPE TOWN | B20: =+'S.AFRICA via SIN'!B23 -> 003S | C20: =+'S.AFRICA via SIN'!C23 -> 44550 | D20: MON | E20: =C20+2 -> 44552 | F20: BLANK SAILING | I20: - | J20: - | K20: - | L20: - | N20: - | O20: - | P20: - | Q20: - | R20: - | S20: - | T20: ESA2
A23: =+'S.AFRICA via SIN'!A28 -> SANTA LOUKIA | B23: =+'S.AFRICA via SIN'!B28 -> 184S | C23: =+'S.AFRICA via SIN'!C28 -> 44555 | D23: SAT | E23: =C23+2 -> 44557 | F23: EVER LAUREL | G23: 1464-049W | H23: 44199 | I23: =H23+23 -> 44222 | J23: - | K23: =H23+24 -> 44223 | L23: =H23+26 -> 44225 | M23: =H23+27 -> 44226 | N23: =H23+30 -> 44229 | O23: =H23+32 -> 44231 | P23: =H23+36 -> 44235 | Q23: - | R23: - | S23: - | T23: ESA
A24: =+'S.AFRICA via SIN'!A29 -> CSCL LIMA | B24: =+'S.AFRICA via SIN'!B29 -> 121S | C24: =+'S.AFRICA via SIN'!C29 -> 44557 | D24: MON | E24: =C24+2 -> 44559 | F24: EVER URBAN | G24: 0143-166W | H24: 44199 | I24: - | J24: =H24+24 -> 44223 | K24: =H24+26 -> 44225 | L24: =H24+28 -> 44227 | M24: =H24+29 -> 44228 | N24: - | O24: - | P24: - | Q24: - | R24: =H24+30 -> 44229 | S24: =H24+29 -> 44228 | T24: ESA2
S31: ABOVE SAILING SCHEDULE IS SUBJECT TO CHANGE WITH /WITHOUT PRIOR NOTICE
A32: Remarks for closing time:
A33: 22:00 FRI in TCHP // 04:00 AM FRI in CAT LAI // 22:00 PM THU at TRANSIMEX, TANAMEXCO (don’t accept ICD PHUOCLONG /BINHDUONG)
A34: 08:00 AM SAT in CAT LAI (SUN Feeder)
A35: 07:00 AM SUN in CAT LAI
A37: For rate inquiries, please contact : msdsgn@coscon.com
A38: For booking inquiries, please contact : sgn.oth.cus@coscon.com
A42: As per updated info, extra loader M/V "XIN WU HAN" 098W/E (ESA2 RSS 098 W) ETD SIN 14 SEP will not call Buenos Aires this time, other ports remain unchanges.

Sheet EAST AFRICA via SIN
B1: COSCO SHIPPING LINES (VIETNAM)
B2: EAST AFRICA (MOMBASA, DAR ES SALAAM)
A7: BACK TO MENU
A8: FEEDER (VSX - VTS - IHX) | C8: ETD | E8: ETA | F8: INTENDED | H8: T/S SINGAPORE | I8: ETA
C9: CAT LAI | E9: SIN | F9: CONNECTING VESSEL | H9: ETA | I9: MOMBASA | J9: Dar-es-salaam
F10: EXPRESS SPAIN | G10: 1922W | H10: 44541 | I10: =H10+12 -> 44553 | J10: - | K10: EAX1-W
A11: =+'S.AMERICA via SIN'!A11 -> SANTA LOUKIA | B11: =+'S.AMERICA via SIN'!B11 -> 183S | C11: =+'S.AMERICA via SIN'!C11 -> 44534 | D11: SAT | E11: =C11+2 -> 44536 | F11: MAERSK NEW DELHI | G11: 149W | H11: 44537 | I11: - | J11: =+H11+19 -> 44556 | K11: EAX2-W
A12: =+'S.AMERICA via SIN'!A12 -> SPIRIT OF CAPE TOWN | B12: =+'S.AMERICA via SIN'!B12 -> 002S | C12: =+'S.AMERICA via SIN'!C12 -> 44536 | D12: MON | E12: =+C12+2 -> 44538
F13: CELSIUS BOSTON | G13: 149W | H13: 44548 | J13: -
A14: =+'S.AMERICA via SIN'!A15 -> CAPE FAWLEY | B14: =+'S.AMERICA via SIN'!B15 -> 064S | C14: =+'S.AMERICA via SIN'!C15 -> 44541 | D14: SAT | E14: =C14+2 -> 44543 | F14: AREOPOLIS | G14: 419W
A15: =+'S.AMERICA via SIN'!A16 -> CSCL LIMA | B15: =+'S.AMERICA via SIN'!B16 -> 120S | C15: =+'S.AMERICA via SIN'!C16 -> 44543 | D15: MON | E15: =C15+2 -> 44545 | H15: 44551 | I15: - | J15: =+H15+19 -> 44570
F16: COSCO FUZHOU | G16: 116W | H16: 44555 | J16: -
A17: =+'S.AMERICA via SIN'!A19 -> BLANK | B17: =+'S.AMERICA via SIN'!B19 -> 0 | C17: =+'S.AMERICA via SIN'!C19 -> 44548 | D17: SUN | E17: =C17+2 -> 44550 | F17: MAERSK NINGBO | G17: 075W | H17: 44558 | I17: - | J17: =+H17+19 -> 44577
A18: =+'S.AMERICA via SIN'!A20 -> SPIRIT OF CAPE TOWN | B18: =+'S.AMERICA via SIN'!B20 -> 003S | C18: =+'S.AMERICA via SIN'!C20 -> 44550 | D18: MON | E18: =C18+2 -> 44552
F19: CELSIUS BRICKELL | G19: 151W | H19: =H16+7 -> 44562 | I19: =H19+12 -> 44574 | J19: -
A20: =+'S.AMERICA via SIN'!A23 -> SANTA LOUKIA | B20: =+'S.AMERICA via SIN'!B23 -> 184S | C20: =+'S.AMERICA via SIN'!C23 -> 44555 | D20: SAT | E20: =C20+2 -> 44557 | F20: LAKONIA | G20: 041W | H20: 44200 | I20: - | J20: =+H20+19 -> 44219
A21: =+'S.AMERICA via SIN'!A24 -> CSCL LIMA | B21: =+'S.AMERICA via SIN'!B24 -> 121S | C21: =+'S.AMERICA via SIN'!C24 -> 44557 | D21: MON | E21: =C21+2 -> 44559
J24: ABOVE SAILING SCHEDULE IS SUBJECT TO CHANGE WITH /WITHOUT PRIOR NOTICE
A25: Remarks for closing time:
A26: 22:00 FRI in TCHP // 04:00 AM FRI in CAT LAI // 22:00 PM THU at TRANSIMEX, TANAMEXCO (don’t accept ICD PHUOCLONG /BINHDUONG)
A27: 08:00 AM SAT in CAT LAI (SUN Feeder)
A28: 07:00 AM SUN in CAT LAI
A30: For rate inquiries, please contact : msdsgn@coscon.com
A31: For booking inquiries, please contact : sgn.oth.cus@coscon.com
